BEGIN:VCALENDAR
VERSION:2.0
PRODID:aftelearning.org
BEGIN:VEVENT
UID:69e5139d7e31d
DTSTART:20180630T070000Z
SEQUENCE:0
TRANSP:OPAQUE
DTEND:20180630T143000Z
SUMMARY:A test event
CLASS:PUBLIC
DESCRIPTION:Nullam eleifend imperdiet mauris\, quis gravida turpis sceleris
 que ac.  \nMaecenas mollis convallis augue at euismod. Aliquam in dui sagi
 ttis\, euismod  \nest vel\, pretium lectus. Maecenas eleifend massa sed ma
 lesuada tempor. Cum  \nsociis natoque penatibus et magnis dis parturient m
 ontes\, nascetur ridiculus  \nmus. Curabitur congue hendrerit sem sed lobo
 rtis. Cras consequat ornare  \nvolutpat.\n\n
X-ALT-DESC;FMTTYPE=text/html:<p>Nullam eleifend imperdiet mauris\, quis gra
 vida turpis scelerisque ac. Maecenas mollis convallis augue at euismod. Al
 iquam in dui sagittis\, euismod est vel\, pretium lectus. Maecenas eleifen
 d massa sed malesuada tempor. Cum sociis natoque penatibus et magnis dis p
 arturient montes\, nascetur ridiculus mus. Curabitur congue hendrerit sem 
 sed lobortis. Cras consequat ornare volutpat.</p>\n
DTSTAMP:20260419T174045Z
END:VEVENT
END:VCALENDAR