BEGIN:VCALENDAR
VERSION:2.0
PRODID:aftelearning.org
BEGIN:VEVENT
UID:69e5e4aa31233
DTSTART:20180629T141255Z
SEQUENCE:0
TRANSP:OPAQUE
DTEND:20180630T141255Z
SUMMARY:Carlo Test
CLASS:PUBLIC
DESCRIPTION:Just testing the calendar\n\n
X-ALT-DESC;FMTTYPE=text/html:<p>Just testing the calendar</p>\n
DTSTAMP:20260420T083242Z
END:VEVENT
END:VCALENDAR