BEGIN:VCALENDAR
VERSION:2.0
PRODID:aftelearning.org
BEGIN:VEVENT
UID:69e57531bbb57
DTSTART:20180719T060000Z
SEQUENCE:0
TRANSP:OPAQUE
DTEND:20180727T100000Z
SUMMARY:Summer Educator Academy
CLASS:PUBLIC
DESCRIPTION:2018 Summer Educator Academy [1]\n \n\n\n[1] https://afteacher
 s.remote-learner.net/course/view.php?id=264\n
X-ALT-DESC;FMTTYPE=text/html:<p><a href=\"https://afteachers.remote-learner
 .net/course/view.php?id=264\">2018 Summer Educator Academy</a><br />\n&nbs
 p\;</p>\n
DTSTAMP:20260420T003705Z
END:VEVENT
END:VCALENDAR