BEGIN:VCALENDAR
VERSION:2.0
PRODID:aftelearning.org
BEGIN:VEVENT
UID:69e56ad492e0d
DTSTART:20180719T120000Z
SEQUENCE:0
TRANSP:OPAQUE
DTEND:20180719T130000Z
SUMMARY:WEBINAR: How to Survive and Thrive as a New Teacher
CLASS:PUBLIC
DESCRIPTION:Join Julia Thompson and Share My Lesson for a webinar on helpi
 ng New  \nTeachers have a joyful and productive first year.\n\nA new teach
 er’s first year can be one filled with a mixture of emotions and  \nexpe
 riences—some positive and some not as pleasant. This webinar\, based on 
  \nthe principles outlined in The First-Year Teacher’s Survival Guide\, 
 will  \nfocus on helping new teachers have a joyful and productive first y
 ear. Topics  \ncovered in the webinar will include the best ways to begin 
 a school term\, how  \nto maintain the important balance between personal 
 life and professional  \nlife\, and how to go about developing the skills 
 and attitudes necessary to  \nbecome a successful professional educator.\n
 \n*REGISTER FOR FREE* [1]\n\n*Available for one-hour of PD credit. A certi
 ficate of completion will be  \navailable for download at the end of your 
 session.*\n\n\n[1] https://event.on24.com/wcc/r/1774640/FBE5EA08AA9B640A5D
 47AC1FD035396E\n
X-ALT-DESC;FMTTYPE=text/html:<p>Join Julia Thompson and Share My Lesson for
  a webinar on&nbsp\;helping New Teachers have a joyful and productive firs
 t year.</p>\n\n<p>A new teacher’s first year can be one filled with a mi
 xture of emotions and experiences—some positive and some not as pleasant
 . This webinar\, based on the principles outlined in The First-Year Teache
 r’s Survival Guide\, will focus on helping new teachers have a joyful an
 d productive first year. Topics covered in the webinar will include the be
 st ways to begin a school term\, how to maintain the important balance bet
 ween personal life and professional life\, and how to go about developing 
 the skills and attitudes necessary to become a successful professional edu
 cator.</p>\n\n<p><a href=\"https://event.on24.com/wcc/r/1774640/FBE5EA08AA
 9B640A5D47AC1FD035396E\"><strong>REGISTER FOR FREE</strong></a></p>\n\n<p>
 <strong>Available for one-hour of PD credit. A certificate of completion w
 ill be available for download at the end of your session.</strong></p>\n
DTSTAMP:20260419T235252Z
END:VEVENT
END:VCALENDAR