BEGIN:VCALENDAR
VERSION:2.0
PRODID:aftelearning.org
BEGIN:VEVENT
UID:69e5e4ca11295
DTSTART:20180719T130000Z
SEQUENCE:0
TRANSP:OPAQUE
DTEND:20180719T140000Z
SUMMARY:WEBINAR: Mentoring New Teachers in the Innovation Age
CLASS:PUBLIC
DESCRIPTION:Join the American Federation of Teachers' *Julie Stern [1]* a
 nd Share My  \nLesson for a webinar on practical tools for teacher leader
 s.\n\n*Thursday\, July 19\, 2018\nat 3:00pm EDT\nRegister For Free [2]*\n\
 nThe 21st Century requires transformation of teaching and learning beyond 
  \nsimple memorization of facts and skills. How can we help beginning teac
 hers  \nwhile improving our own craft? Using a simple framework helps to a
 lign all  \naspects of culture around teaching and learning -- and therefo
 re reduce the  \nfeeling of overwhelm that often harms morale for teachers
  and students alike.  \nThis session will provide practical tools for teac
 her leaders to guide teams  \nand students for managing complexity and max
 imizing the potential of all  \nlearners.\n\n*Available for one-hour of PD
  credit. A certificate of completion will be  \navailable for download at 
 the end of your session.*\n\n\n[1] https://sharemylesson.com/users/julie-s
 tern\n[2] https://event.on24.com/wcc/r/1774662/21910E3041BF8E377F569886BE1
 5C6A1\n
X-ALT-DESC;FMTTYPE=text/html:<p>Join the American Federation of Teachers'&n
 bsp\;<strong><a href=\"https://sharemylesson.com/users/julie-stern\">Julie
  Stern</a></strong>&nbsp\;and Share My Lesson for a webinar on&nbsp\;pract
 ical tools for teacher leaders.</p>\n\n<p><strong>Thursday\, July 19\, 201
 8<br />\nat 3:00pm EDT<br />\n<a href=\"https://event.on24.com/wcc/r/17746
 62/21910E3041BF8E377F569886BE15C6A1\">Register For Free</a></strong></p>\n
 \n<p>The 21st Century requires transformation of teaching and learning bey
 ond simple memorization of facts and skills. How can we help beginning tea
 chers while improving our own craft? Using a simple framework helps to ali
 gn all aspects of culture around teaching and learning -- and therefore re
 duce the feeling of overwhelm that often harms morale for teachers and stu
 dents alike. This session will provide practical tools for teacher leaders
  to guide teams and students for managing complexity and maximizing the po
 tential of all learners.</p>\n\n<p><strong>Available for one-hour of PD cr
 edit. A certificate of completion will be available for download at the en
 d of your session.</strong></p>\n
DTSTAMP:20260420T083314Z
END:VEVENT
END:VCALENDAR