BEGIN:VCALENDAR
VERSION:2.0
PRODID:aftelearning.org
BEGIN:VEVENT
UID:69e5952067c4c
DTSTART:20180719T140000Z
SEQUENCE:0
TRANSP:OPAQUE
DTEND:20180719T150000Z
SUMMARY:WEBINAR: TEACHER LIFE: RESULTS FROM THE 2017 EDUCATOR QUALITY OF WO
 RK LIFE SURVEY
CLASS:PUBLIC
DESCRIPTION:Join the *American Federation of Teachers [1]*'s Sumner McRae
  and Share My  \nLesson for a webinar on findings from the 2017 Educator 
 Quality of Work Life  \nsurvey.\n\n*Thursday\, July 19\, 2018*\n*at 4:00pm
  EDT*\n*Register For Free* [2]\n\nIn 2017\, the AFT and the Badass Teacher
 s Association ran the second iteration  \nof the Educator Quality of Work 
 Life (EQWL) survey. Following up on the  \ninaugural 2015 survey\, finding
 s from the 2017 EQWL demonstrate that schools  \nstill struggle to provide
  educators and\, by extension\, students with healthy  \nand productive en
 vironments. Districts that fail to recognize the importance  \nof educator
  well-being may be faced with higher turnover\, more teacher and  \nstaff 
 health issues\, and greater burnout\, all of which research indicates  \nl
 eads to higher costs\, less stability for kids and\, ultimately\, lower st
 udent  \nachievement. Our 2017 survey also found that strong labor-managem
 ent  \npartnerships may be effective in mitigating teacher and school staf
 f stress.  \nDuring the webinar\, we’ll go over the 2017 results in dept
 h\, as well as  \ndiscuss the implications of our findings on collaboratio
 n and stress and next  \nsteps for further research.\n\n*REGISTER FOR FREE
 * [3]\n\n*Available for one-hour of PD credit. A certificate of completion
  will be  \navailable for download at the end of your session.*\n\n\n[1] h
 ttps://sharemylesson.com/partner/american-federation-teachers\n[2] https:/
 /event.on24.com/wcc/r/1775416/B15D887B6B2323D6C9EF7D2E50BF7312\n[3] https:
 //event.on24.com/wcc/r/1775416/B15D887B6B2323D6C9EF7D2E50BF7312\n
X-ALT-DESC;FMTTYPE=text/html:<p>Join the&nbsp\;<strong><a href=\"https://sh
 aremylesson.com/partner/american-federation-teachers\">American Federation
  of Teachers</a></strong>'s Sumner McRae&nbsp\;and Share My Lesson for a w
 ebinar on findings from the 2017 Educator Quality of Work Life survey.</p>
 \n\n<p><strong>Thursday\, July 19\, 2018</strong><br />\n<strong>at 4:00pm
  EDT</strong><br />\n<a href=\"https://event.on24.com/wcc/r/1775416/B15D88
 7B6B2323D6C9EF7D2E50BF7312\"><strong>Register For Free</strong></a></p>\n\
 n<p>In 2017\, the AFT and the Badass Teachers Association ran the second i
 teration of the Educator Quality of Work Life (EQWL) survey. Following up 
 on the inaugural 2015 survey\, findings from the 2017 EQWL demonstrate tha
 t schools still struggle to provide educators and\, by extension\, student
 s with healthy and productive environments. Districts that fail to recogni
 ze the importance of educator well-being may be faced with higher turnover
 \, more teacher and staff health issues\, and greater burnout\, all of whi
 ch research indicates leads to higher costs\, less stability for kids and\
 , ultimately\, lower student achievement. Our 2017 survey also found that 
 strong labor-management partnerships may be effective in mitigating teache
 r and school staff stress. During the webinar\, we’ll go over the 2017 r
 esults in depth\, as well as discuss the implications of our findings on c
 ollaboration and stress and next steps for further research.</p>\n\n<p><a 
 href=\"https://event.on24.com/wcc/r/1775416/B15D887B6B2323D6C9EF7D2E50BF73
 12\"><strong>REGISTER FOR FREE</strong></a></p>\n\n<p><strong>Available fo
 r one-hour of PD credit. A certificate of completion will be available for
  download at the end of your session.</strong></p>\n
DTSTAMP:20260420T025320Z
END:VEVENT
END:VCALENDAR