BEGIN:VCALENDAR
VERSION:2.0
PRODID:aftelearning.org
BEGIN:VEVENT
UID:69e6176ccba4f
DTSTART:20180726T110000Z
SEQUENCE:0
TRANSP:OPAQUE
DTEND:20180726T120000Z
SUMMARY:WEBINAR: COLLABORATING WITH THE LIBRARY: ENHANCING LESSONS WITH NEW
  PRIMARY SOURCES
CLASS:PUBLIC
DESCRIPTION:Join Elizabeth Billy & Shauntee Burns-Simpson from the *New Yo
 rk Public  \nLibrary* [1] and Share My Lesson for a webinar on successfu
 l collaboration  \nwith school librarians and local public librarians.\n
 \n*Thursday\, July 26\, 2018*\n*at 1:00pm EDT*\n*Register For Free* [2]\n\
 nIn this webinar\, learn some of the benefits of collaborating with your  
 \nlibrarian\, from unit planning to class visits\, as well as how to set y
 our  \nstudents up for success in their research projects. Learn some best
  practices  \non integrating the library resources\, both digitally and in
  print. Get a  \nglimpse at successful collaboration models that some teac
 hers are developing  \nwith both librarians in school and at the local pub
 lic library\, including the  \nNew York City’s Public Libraries’ MyLib
 raryNYC program. Preview the  \nDigital Collections\, the New York Public 
 Library’s online gallery of  \ndigitized images\, including photographs\
 , pictures\, maps\, and letters\, which  \nis free to use and accessible o
 nline across the country and around the world.  \nHear about some collecti
 on highlights which have relevance across K-12  \ncontent and then get an 
 in-depth look at a few selected primary sources with  \ndirect connections
  to Social Studies curriculum. Learn about some additional  \ndigital tool
 s and specific ways to enhance your students’ explorations of  \nprimary
  and secondary sources. This presentation will include handouts on  \nbest
  practices for integrating library resources\, online tools\, and a guide 
  \nto using our Electronic Resources.\n\n*REGISTER FOR FREE* [3]\n\n*Avail
 able for one-hour of PD credit. A certificate of completion will be  \nava
 ilable for download at the end of your session.*\n\n\n[1] https://sharemyl
 esson.com/partner/new-york-public-library\n[2] https://event.on24.com/wcc/
 r/1775401/B3A703CD9F6E884EFE7FEBCCD852547C\n[3] https://event.on24.com/wcc
 /r/1775401/B3A703CD9F6E884EFE7FEBCCD852547C\n
X-ALT-DESC;FMTTYPE=text/html:<p>Join Elizabeth Billy &amp\; Shauntee Burns-
 Simpson from the&nbsp\;<a href=\"https://sharemylesson.com/partner/new-yor
 k-public-library\"><strong>New York Public Library</strong></a>&nbsp\;and 
 Share My Lesson for a webinar on&nbsp\;successful collaboration with&nbsp\
 ;school librarians and&nbsp\;local public librarians.</p>\n\n<p><strong>Th
 ursday\, July 26\, 2018</strong><br />\n<strong>at 1:00pm EDT</strong><br 
 />\n<a href=\"https://event.on24.com/wcc/r/1775401/B3A703CD9F6E884EFE7FEBC
 CD852547C\"><strong>Register For Free</strong></a></p>\n\n<p>In this webin
 ar\, learn some of the benefits of collaborating with your librarian\, fro
 m unit planning to class visits\, as well as how to set your students up f
 or success in their research projects. Learn some best practices on integr
 ating the library resources\, both digitally and in print. Get a glimpse a
 t successful collaboration models that some teachers are developing with b
 oth librarians in school and at the local public library\, including the N
 ew York City’s Public Libraries’ MyLibraryNYC program. Preview the Dig
 ital Collections\, the New York Public Library’s online gallery of digit
 ized images\, including photographs\, pictures\, maps\, and letters\, whic
 h is free to use and accessible online across the country and around the w
 orld. Hear about some collection highlights which have relevance across K-
 12 content and then get an in-depth look at a few selected primary sources
  with direct connections to Social Studies curriculum. Learn about some ad
 ditional digital tools and specific ways to enhance your students’ explo
 rations of primary and secondary sources. This presentation will include h
 andouts on best practices for integrating library resources\, online tools
 \, and a guide to using our Electronic Resources.</p>\n\n<p><a href=\"http
 s://event.on24.com/wcc/r/1775401/B3A703CD9F6E884EFE7FEBCCD852547C\"><stron
 g>REGISTER FOR FREE</strong></a></p>\n\n<p><strong>Available for one-hour 
 of PD credit. A certificate of completion will be available for download a
 t the end of your session.</strong></p>\n
DTSTAMP:20260420T120916Z
END:VEVENT
END:VCALENDAR