BEGIN:VCALENDAR
VERSION:2.0
PRODID:aftelearning.org
BEGIN:VEVENT
UID:69e52d82c82eb
DTSTART:20180726T130000Z
SEQUENCE:0
TRANSP:OPAQUE
DTEND:20180726T140000Z
SUMMARY:WEBINAR:  WARM OR DEMANDING? DEVELOP CLASSROOM LEADERSHIP SKILLS
CLASS:PUBLIC
DESCRIPTION:Join Julia Thompson and Share My Lesson for a webinar on succe
 ssful  \nclassroom leadership.\n\n*Thursday\, July 26\, 2018*\n*at 3:00pm 
 EDT*\n*Register For Free [1]*\n\nNovice teachers are often advised not to 
 “smile until Thanksgiving.”  \nAlthough this advice is well-intentione
 d\, no teacher should be so strict that  \nour students fear us. Neither s
 hould we be so permissive that disruptive  \nchaos takes over the room. Th
 e key to successful classroom leadership lies in  \ndeveloping the balance
 d qualities of those teachers who are regarded as warm  \ndemanders. As de
 fined by the Executive Director of the Center for Urban  \nEducational Exc
 ellence at Florida International University\, Lisa Delpit\,  \n“Warm dem
 anders expect a great deal of their students\, convince them of  \ntheir o
 wn brilliance\, and help them to reach their potential in a disciplined  \
 nand structured environment.” This webinar will explore the various ways
   \nthat teachers can learn to recognize their own strengths as warm deman
 ders  \nand develop the skills that will allow them to successfully lead t
 heir  \nclassrooms. It is geared to help teachers develop positive connect
 ions with  \ntheir students while creating a structured\, productive learn
 ing environment  \nwhere students can achieve both academic and behavioral
  success.\n\n *REGISTER FOR FREE* [2]\n\n \n\n*Available for one-hour of
  PD credit. A certificate of completion will be  \navailable for download 
 at the end of your session.*\n\n\n[1] https://event.on24.com/wcc/r/1774657
 /A766250D11F62F4DDAB85996F5602D67\n[2] https://event.on24.com/wcc/r/177465
 7/A766250D11F62F4DDAB85996F5602D67\n
X-ALT-DESC;FMTTYPE=text/html:<p>Join Julia Thompson&nbsp\;and Share My Less
 on for a webinar on successful classroom leadership.</p>\n\n<p><strong>Thu
 rsday\, July 26\, 2018</strong><br />\n<strong>at 3:00pm EDT</strong><br /
 >\n<strong><a href=\"https://event.on24.com/wcc/r/1774657/A766250D11F62F4D
 DAB85996F5602D67\">Register For Free</a></strong></p>\n\n<p>Novice teacher
 s are often advised not to “smile until Thanksgiving.” Although this a
 dvice is well-intentioned\, no teacher should be so strict that our studen
 ts fear us. Neither should we be so permissive that disruptive chaos takes
  over the room. The key to successful classroom leadership lies in develop
 ing the balanced qualities of those teachers who are regarded as warm dema
 nders. As defined by the Executive Director of the Center for Urban Educat
 ional Excellence at Florida International University\, Lisa Delpit\, “Wa
 rm demanders expect a great deal of their students\, convince them of thei
 r own brilliance\, and help them to reach their potential in a disciplined
  and structured environment.” This webinar will explore the various ways
  that teachers can learn to recognize their own strengths as warm demander
 s and develop the skills that will allow them to successfully lead their c
 lassrooms. It is geared to help teachers develop positive connections with
  their students while creating a structured\, productive learning environm
 ent where students can achieve both academic and behavioral success.</p>\n
 \n<p>&nbsp\;<a href=\"https://event.on24.com/wcc/r/1774657/A766250D11F62F4
 DDAB85996F5602D67\"><strong>REGISTER FOR FREE</strong></a></p>\n\n<p>&nbsp
 \;</p>\n\n<p><strong>Available for one-hour of PD credit. A certificate of
  completion will be available for download at the end of your session.</st
 rong></p>\n
DTSTAMP:20260419T193114Z
END:VEVENT
END:VCALENDAR