BEGIN:VCALENDAR
VERSION:2.0
PRODID:aftelearning.org
BEGIN:VEVENT
UID:69e51de2d9671
DTSTART:20180726T120000Z
SEQUENCE:0
TRANSP:OPAQUE
DTEND:20180728T130000Z
SUMMARY:WEBINAR: INTEGRATING ETHICS IN THE SOCIAL STUDIES CURRICULUM
CLASS:PUBLIC
DESCRIPTION:Join Yael Kidron\, Director of Character Education at Santa C
 lara  \nUniversity's *Markkula Center for Applied Ethics* [1]\, and Share
  My Lesson  \nfor a webinar on how to integrate ethics education into the 
 middle school  \nsocial studies curriculum.\n\n*Thursday\, July 26\, 2018*
 \n*at 2:00pm EDT*\n*Register For Free* [2]\n\nThis webinar will provide an
  overview of leadership ethics\, bioethics\,  \ninternet ethics\, and jour
 nalism ethics\, how to teach ethical thinking\, and  \nhow to integrate et
 hics education into the middle school social studies  \ncurriculum.\n\n*RE
 GISTER FOR FREE* [3]\n\n*Available for one-hour of PD credit. A certificat
 e of completion will be  \navailable for download at the end of your sessi
 on.*\n\n\n[1] https://www.scu.edu/ethics/\n[2] https://event.on24.com/wcc/
 r/1775429/1D32CCBD136DCBCFD65127EA0E799501\n[3] https://event.on24.com/wcc
 /r/1775429/1D32CCBD136DCBCFD65127EA0E799501\n
X-ALT-DESC;FMTTYPE=text/html:<p>Join&nbsp\;Yael Kidron\,&nbsp\;Director of 
 Character Education at Santa Clara University's&nbsp\;<a href=\"https://ww
 w.scu.edu/ethics/\"><strong>Markkula Center for Applied Ethics</strong></a
 >\, and Share My Lesson for a webinar on how to integrate ethics education
  into the middle school social studies curriculum.</p>\n\n<p><strong>Thurs
 day\, July 26\, 2018</strong><br />\n<strong>at 2:00pm EDT</strong><br />\
 n<a href=\"https://event.on24.com/wcc/r/1775429/1D32CCBD136DCBCFD65127EA0E
 799501\"><strong>Register For Free</strong></a></p>\n\n<p>This webinar wil
 l provide an overview of leadership ethics\, bioethics\, internet ethics\,
  and journalism ethics\, how to teach ethical thinking\, and how to integr
 ate ethics education into the middle school social studies curriculum.</p>
 \n\n<p><a href=\"https://event.on24.com/wcc/r/1775429/1D32CCBD136DCBCFD651
 27EA0E799501\"><strong>REGISTER FOR FREE</strong></a></p>\n\n<p><strong>Av
 ailable for one-hour of PD credit. A certificate of completion will be ava
 ilable for download at the end of your session.</strong></p>\n
DTSTAMP:20260419T182434Z
END:VEVENT
END:VCALENDAR