BEGIN:VCALENDAR
VERSION:2.0
PRODID:aftelearning.org
BEGIN:VEVENT
UID:69e4aa5c4e2be
DTSTART:20180802T110000Z
SEQUENCE:0
TRANSP:OPAQUE
DTEND:20180802T120000Z
SUMMARY:WEBINAR: COURAGE\, GRIT AND KINDNESS: JOIN CHARACTER DAY SEPTEMBER 
 26
CLASS:PUBLIC
DESCRIPTION:Join *Let It Ripple [1]*'s Makenzie Darling and Share My Lesso
 n for a  \nwebinar celebrating Character Day\, which is September 26\, 201
 8.\n\n*Thursday\, August 2\, 2018*\n*at 1:00pm EDT*\n*Register For Free* [
 2]\n\nCome learn about the global movement called Character Day on Septemb
 er 26th!  \nLast year over 133\,000 events in 150 countries participated. 
 Thousands of  \nschools\, companies\, museums\, libraries and homes -- any
 where people already  \ngather --- screen films on the science of characte
 r development from  \ndifferent perspectives\, dive into free printed disc
 ussion materials catered  \nto different ages\, and join an online global 
 Q&A conversation featuring  \nprominent leaders discussing the importance 
 of developing character strengths  \n(resilience\, grit\, empathy\, courag
 e\, kindness)--all rooted in evidence-based  \nresearch. Character Day is 
 one day. The resources are free and available  \nyear-round.\n\n*REGISTER 
 FOR FREE* [3]\n\n*Available for one-hour of PD credit. A certificate of co
 mpletion will be  \navailable for download at the end of your session.*\n\
 n\n[1] https://sharemylesson.com/partner/let-it-ripple\n[2] https://event.
 on24.com/wcc/r/1774774/8A76810AEE01AB3848BF5F55B5FBAF5F\n[3] https://event
 .on24.com/wcc/r/1774774/8A76810AEE01AB3848BF5F55B5FBAF5F\n
X-ALT-DESC;FMTTYPE=text/html:<p>Join&nbsp\;<strong><a href=\"https://sharem
 ylesson.com/partner/let-it-ripple\">Let It Ripple</a></strong>'s Makenzie 
 Darling and Share My Lesson for a webinar celebrating Character Day\, whic
 h is September 26\, 2018.</p>\n\n<p><strong>Thursday\, August 2\, 2018</st
 rong><br />\n<strong>at 1:00pm EDT</strong><br />\n<a href=\"https://event
 .on24.com/wcc/r/1774774/8A76810AEE01AB3848BF5F55B5FBAF5F\"><strong>Registe
 r For Free</strong></a></p>\n\n<p>Come learn about the global movement cal
 led Character Day on September 26th! Last year over 133\,000 events in 150
  countries participated. Thousands of schools\, companies\, museums\, libr
 aries and homes -- anywhere people already gather --- screen films on the 
 science of character development from different perspectives\, dive into f
 ree printed discussion materials catered to different ages\, and join an o
 nline global Q&amp\;A conversation featuring prominent leaders discussing 
 the importance of developing character strengths (resilience\, grit\, empa
 thy\, courage\, kindness)--all rooted in evidence-based research. Characte
 r Day is one day. The resources are free and available year-round.</p>\n\n
 <p><a href=\"https://event.on24.com/wcc/r/1774774/8A76810AEE01AB3848BF5F55
 B5FBAF5F\"><strong>REGISTER FOR FREE</strong></a></p>\n\n<p><strong>Availa
 ble for one-hour of PD credit. A certificate of completion will be availab
 le for download at the end of your session.</strong></p>\n
DTSTAMP:20260419T101140Z
END:VEVENT
END:VCALENDAR