BEGIN:VCALENDAR
VERSION:2.0
PRODID:aftelearning.org
BEGIN:VEVENT
UID:69e6180c2063f
DTSTART:20180802T120000Z
SEQUENCE:0
TRANSP:OPAQUE
DTEND:20180802T130000Z
SUMMARY:WEBINAR: ENGAGING STAKEHOLDERS TO SUPPORT STUDENT DIVERSITY\, INCLU
 SION AND WELL-BEING
CLASS:PUBLIC
DESCRIPTION:Join Ami Shah\, CEO & Co-Founder of *Peekapak* [1]\, and Shar
 e My Lesson for  \na webinar on best practices to promote diversity\, incl
 usion\, and student  \nwell-being.\n\n*Thursday\, August 2\, 2018*\n*at 
 2:00pm EDT*\n*Register For Free* [2]\n\nDistrict administrators and educat
 ion leaders will learn best practices in  \nimplementing and integrating s
 ocial-emotional learning within English  \nLanguage Arts and Literacy curr
 iculum blocks in order to promote diversity\,  \ninclusion\, and student w
 ell-being. Case studies from Elizabeth Public Schools  \nand Passaic Publi
 c Schools will be shared. A special emphasis will be placed  \non how to e
 ngage key stakeholders across the district and parent community to  \nensu
 re successful adoption of new programs and initiatives. This session will 
  \nhelp education leaders understand best practices to implementing  \nsoc
 ial-emotional learning at their school and learn about different  \nresour
 ces\, tools and books on promoting diversity\, inclusion and positive  \nm
 ental health & well-being of students.\n\n*REGISTER FOR FREE* [3]\n\n*Avai
 lable for one-hour of PD credit. A certificate of completion will be  \nav
 ailable for download at the end of your session.*\n\n\n[1] https://sharemy
 lesson.com/partner/peekapak\n[2] https://event.on24.com/wcc/r/1775408/D505
 AA170195B7E9F170C4478B6220A9\n[3] https://event.on24.com/wcc/r/1775408/D50
 5AA170195B7E9F170C4478B6220A9\n
X-ALT-DESC;FMTTYPE=text/html:<p>Join Ami Shah\, CEO &amp\; Co-Founder of&nb
 sp\;<a href=\"https://sharemylesson.com/partner/peekapak\"><strong>Peekapa
 k</strong></a>\,&nbsp\;and Share My Lesson for a webinar on best practices
  to promote diversity\, inclusion\, and student well-being.</p>\n\n<p><str
 ong>Thursday\,&nbsp\;August 2\,&nbsp\;2018</strong><br />\n<strong>at 2:00
 pm EDT</strong><br />\n<a href=\"https://event.on24.com/wcc/r/1775408/D505
 AA170195B7E9F170C4478B6220A9\"><strong>Register For Free</strong></a></p>\
 n\n<p>District administrators and education leaders will learn best practi
 ces in implementing and integrating social-emotional learning within Engli
 sh Language Arts and Literacy curriculum blocks in order to promote divers
 ity\, inclusion\, and student well-being. Case studies from Elizabeth Publ
 ic Schools and Passaic Public Schools will be shared. A special emphasis w
 ill be placed on how to engage key stakeholders across the district and pa
 rent community to ensure successful adoption of new programs and initiativ
 es. This session will help education leaders understand best practices to 
 implementing social-emotional learning at their school and learn about dif
 ferent resources\, tools and books on promoting diversity\, inclusion and 
 positive mental health &amp\; well-being of students.</p>\n\n<p><a href=\"
 https://event.on24.com/wcc/r/1775408/D505AA170195B7E9F170C4478B6220A9\"><s
 trong>REGISTER FOR FREE</strong></a></p>\n\n<p><strong>Available for one-h
 our of PD credit. A certificate of completion will be available for downlo
 ad at the end of your session.</strong></p>\n
DTSTAMP:20260420T121156Z
END:VEVENT
END:VCALENDAR