BEGIN:VCALENDAR
VERSION:2.0
PRODID:aftelearning.org
BEGIN:VEVENT
UID:69e64df8ca23e
DTSTART:20180802T140000Z
SEQUENCE:0
TRANSP:OPAQUE
DTEND:20180802T150000Z
SUMMARY:WEBINAR: TALKING WITH STUDENTS ABOUT SUICIDE PREVENTION
CLASS:PUBLIC
DESCRIPTION:Join Christina Conolly and a host of panelists along with Sh
 are My Lesson  \nfor a webinar discussion on recent cases of suicide.\n\n*
 Thursday\, August 2\, 2018\nat 4:00pm EDT*\n*Register For Free [1]*\n\nPa
 nelists from the American School Counselor Association\, National  \nAssoc
 iation of School Nurses and National Association of School Psychologists  
 \nwill discuss recent cases of suicide in pop culture and how to support  
 \nstudents who may be grieving\, suicidal\, triggered or in need of other 
  \nspecific supports.\n\n*REGISTER FOR FREE [2]*\n\nAvailable for one-hour
  of PD credit. A certificate of completion will be  \navailable for downlo
 ad at the end of your session.\n\n\n[1] https://event.on24.com/wcc/r/17894
 21/7141D3C9A4012BF36152458036D81CBD\n[2] https://event.on24.com/wcc/r/1789
 421/7141D3C9A4012BF36152458036D81CBD\n
X-ALT-DESC;FMTTYPE=text/html:<p>Join Christina Conolly&nbsp\;and a host of 
 panelists&nbsp\;along with&nbsp\;Share My Lesson for a webinar discussion 
 on recent cases of suicide.</p>\n\n<p><strong>Thursday\,&nbsp\;August 2\, 
 2018<br />\nat 4:00pm EDT</strong><br />\n<strong><a href=\"https://event.
 on24.com/wcc/r/1789421/7141D3C9A4012BF36152458036D81CBD\">Register For Fre
 e</a></strong></p>\n\n<p>Panelists from the American School Counselor Asso
 ciation\, National Association of School Nurses and National Association o
 f School Psychologists will discuss recent cases of suicide in pop culture
  and how to support students who may be grieving\, suicidal\, triggered or
  in need of other specific supports.</p>\n\n<p><strong><a href=\"https://e
 vent.on24.com/wcc/r/1789421/7141D3C9A4012BF36152458036D81CBD\">REGISTER FO
 R FREE</a></strong></p>\n\n<p>Available for one-hour of PD credit. A certi
 ficate of completion will be available for download at the end of your ses
 sion.</p>\n
DTSTAMP:20260420T160200Z
END:VEVENT
END:VCALENDAR