BEGIN:VCALENDAR
VERSION:2.0
PRODID:aftelearning.org
BEGIN:VEVENT
UID:69e64ead4dc93
DTSTART:20180809T120000Z
SEQUENCE:0
TRANSP:OPAQUE
DTEND:20180809T130000Z
SUMMARY:WEBINAR - CITIZENSHIP ACTIVITIES FOR ALL AGES
CLASS:PUBLIC
DESCRIPTION:Join Dr. Elizabeth R. Osborn\, Project Director\, Indiana Univ
 ersity Center on  \nRepresentative Government [1] and Share My Lesson for
  a webinar on how to  \npromote good citizenship.\n\n*Thursday\, August 9\
 , 2018\nat 2:00pm EDT\nRegister For Free [2]*\n\nTeaching our students to 
 be good citizens is not solely the responsibility of  \nhigh school govern
 ment teachers. Educators at every level should model\,  \ndiscuss and enco
 urage citizenship in their classrooms. This webinar will  \nprepare teache
 rs to discuss and promote common aspects of citizenship with  \ntheir stud
 ents\, regardless of grade level. We will discuss definitions of  \ncitize
 nship and naturalization and distinguish them from immigration.  \nPartici
 pants will learn where to find free primary source materials for  \nteachi
 ng about citizenship and will leave the session with some hand on  \nclass
 room activities for teaching on this topic.\n\n*REGISTER FOR FREE* [3]\n\n
 Available for one-hour of PD credit. A certificate of completion will be  
 \navailable for download at the end of your session.\n\n\n[1] https://corg
 .iu.edu/\n[2] https://event.on24.com/wcc/r/1785754/E8EE4ADE6D9B78ECBBDB48F
 26A710978\n[3] https://event.on24.com/wcc/r/1785754/E8EE4ADE6D9B78ECBBDB48
 F26A710978\n
X-ALT-DESC;FMTTYPE=text/html:<p>Join Dr. Elizabeth R. Osborn\, Project Dire
 ctor\,&nbsp\;<a href=\"https://corg.iu.edu/\">Indiana University Center on
  Representative Government</a>&nbsp\;and Share My Lesson for a webinar on 
 how to promote good citizenship.</p>\n\n<p><strong>Thursday\, August 9\, 2
 018<br />\nat 2:00pm EDT<br />\n<a href=\"https://event.on24.com/wcc/r/178
 5754/E8EE4ADE6D9B78ECBBDB48F26A710978\">Register For Free</a></strong></p>
 \n\n<p>Teaching our students to be good citizens is not solely the respons
 ibility of high school government teachers. Educators at every level shoul
 d model\, discuss and encourage citizenship in their classrooms. This webi
 nar will prepare teachers to discuss and promote common aspects of citizen
 ship with their students\, regardless of grade level. We will discuss defi
 nitions of citizenship and naturalization and distinguish them from immigr
 ation. Participants will learn where to find free primary source materials
  for teaching about citizenship and will leave the session with some hand 
 on classroom activities for teaching on this topic.</p>\n\n<p><a href=\"ht
 tps://event.on24.com/wcc/r/1785754/E8EE4ADE6D9B78ECBBDB48F26A710978\"><str
 ong>REGISTER FOR FREE</strong></a></p>\n\n<p>Available for one-hour of PD 
 credit. A certificate of completion will be available for download at the 
 end of your session.</p>\n
DTSTAMP:20260420T160501Z
END:VEVENT
END:VCALENDAR