BEGIN:VCALENDAR
VERSION:2.0
PRODID:aftelearning.org
BEGIN:VEVENT
UID:69e64ee7750be
DTSTART:20190711T120000Z
SEQUENCE:0
TRANSP:OPAQUE
DTEND:20190713T180000Z
SUMMARY:AFT TEACH Conference
CLASS:PUBLIC
DESCRIPTION:.... *Our biennial AFT TEACH (Together Educating America’s Ch
 ildren)\n     conference [1] will be held July 10-13\, in Washington\, D.C
 .*\n\nThis unique professional learning conference will celebrate\, inspir
 e and  \nsupport educators in the work that lies ahead. From listening to 
 our members  \naround the country\, we know that educators want in-depth\,
  hands-on  \nexperiences that provide them with concrete strategies\, tool
 s and materials  \nthey can use in the classroom to meet students’ needs
 .\n\nAt TEACH 2019\, attendees can participate in a variety of sessions th
 at will  \naddress topics facing the profession\, students\, schools and c
 ommunities and  \nwill provide them with tools\, resources and strategies 
 to use back home.\n\n*REGISTER* [2]\n\n\n[1] https://www.aft.org/education
 /aft-teach\n[2] https://www.aft.org/education/aft-teach\n
X-ALT-DESC;FMTTYPE=text/html:<h3><strong>Our biennial <a href=\"https://www
 .aft.org/education/aft-teach\">AFT TEACH (Together Educating America’s C
 hildren) conference</a> will be held July 10-13\, in Washington\, D.C.</st
 rong></h3>\n\n<p>This unique professional learning conference will celebra
 te\, inspire and support educators in the work that lies ahead. From liste
 ning to our members around the country\, we know that educators want in-de
 pth\, hands-on experiences that provide them with concrete strategies\, to
 ols and materials they can use in the classroom to meet students’ needs.
 </p>\n\n<p>At TEACH 2019\, attendees can participate in a variety of sessi
 ons that will address topics facing the profession\, students\, schools an
 d communities and will provide them with tools\, resources and strategies 
 to use back home.</p>\n\n<p><a href=\"https://www.aft.org/education/aft-te
 ach\"><strong>REGISTER</strong></a></p>\n
DTSTAMP:20260420T160559Z
END:VEVENT
END:VCALENDAR