BEGIN:VCALENDAR
VERSION:2.0
PRODID:aftelearning.org
BEGIN:VEVENT
UID:69e64ee125da8
DTSTART:20190710T130000Z
SEQUENCE:0
TRANSP:OPAQUE
DTEND:20190710T210000Z
SUMMARY:AFT Pre-TEACH Activities
CLASS:PUBLIC
DESCRIPTION:*Participants in pre-TEACH [1] will have an opportunity to atte
 nd sessions  \ndesigned for members interested in strengthening their acti
 vism.*\n\nCome to TEACH one day early\, and spend the day focusing on deve
 loping skills  \nand strategies to engage\, agitate and advocate on issues
  of critical  \nimportance to your community and profession!\n\nThe day wi
 ll be split into two half-days. You can choose to attend sessions  \nfor t
 he entire day\; or spend half the day participating in visits to Capitol  
 \nHill for Lobby Day\, and the other half of the day attending sessions.\n
 \n*JOIN US* [2]\n\n\n[1] https://www.aft.org/education/aft-teach/aft-teach
 -2019-pre-conference-activities\n[2] https://www.aft.org/education/aft-tea
 ch/aft-teach-2019-pre-conference-activities\n
X-ALT-DESC;FMTTYPE=text/html:<p><strong>Participants in <a href=\"https://w
 ww.aft.org/education/aft-teach/aft-teach-2019-pre-conference-activities\">
 pre-TEACH</a> will have an opportunity to attend sessions designed for mem
 bers interested in strengthening their activism.</strong></p>\n\n<p>Come t
 o TEACH one day early\, and spend the day focusing on developing skills an
 d strategies to engage\, agitate and advocate on issues of critical import
 ance to your community and profession!</p>\n\n<p>The day will be split int
 o two half-days. You can choose to attend sessions for the entire day\; or
  spend half the day participating in visits to Capitol Hill for Lobby Day\
 , and the other half of the day attending sessions.</p>\n\n<p><a href=\"ht
 tps://www.aft.org/education/aft-teach/aft-teach-2019-pre-conference-activi
 ties\"><strong>JOIN US</strong></a></p>\n
DTSTAMP:20260420T160553Z
END:VEVENT
END:VCALENDAR