BEGIN:VCALENDAR
VERSION:2.0
PRODID:aftelearning.org
BEGIN:VEVENT
UID:69e64f2a8170a
DTSTART:20190716T160000Z
SEQUENCE:0
TRANSP:OPAQUE
DTEND:20190724T150000Z
SUMMARY:Summer Educator Academy (SEA) 2019
CLASS:PUBLIC
DESCRIPTION:AFT’s Summer Educator Academy will be held July 16-24. Course
 s will begin  \non July 17 at:\n\nMaritime Conference Center\n692 Maritim
 e Blvd. \nLinthicum Heights\, MD 21090 \nTel.: 410-859-5700\n\n*Conferen
 ce Page [1]*\n\n*SEA 2019 Community [2]*\n\n\n[1] https://aftelearning.org
 /node/365\n[2] https://sharemylesson.com/sea2019\n
X-ALT-DESC;FMTTYPE=text/html:<p><span><span><span><span><span><span><span><
 span><span><span><span><span><span><span><span><span><span>AFT’s Summer 
 Educator Academy will be held July 16-24. Courses will begin on July 17 at
 :</span></span></span></span></span></span></span></span></span></span></s
 pan></span></span></span></span></span></span></p>\n\n<p><span><span><span
 ><span><span><span><span><span><span><span><span><span><span><span><span><
 span><span>Maritime Conference&nbsp\;Center<br />\n692 Maritime Blvd.&nbsp
 \;<br />\nLinthicum Heights\, MD 21090&nbsp\;<br />\nTel.: 410-859-5700</s
 pan></span></span></span></span></span></span></span></span></span></span>
 </span></span></span></span></span></span></p>\n\n<p><strong><a href=\"htt
 ps://aftelearning.org/node/365\"><span><span><span><span><span><span><span
 ><span><span><span><span><span><span><span><span><span><span>Conference Pa
 ge</span></span></span></span></span></span></span></span></span></span></
 span></span></span></span></span></span></span></a></strong></p>\n\n<p><st
 rong><a href=\"https://sharemylesson.com/sea2019\"><span><span><span><span
 ><span><span><span><span><span><span><span><span><span><span><span><span><
 span>SEA 2019 Community</span></span></span></span></span></span></span></
 span></span></span></span></span></span></span></span></span></span></a></
 strong></p>\n
DTSTAMP:20260420T160706Z
END:VEVENT
END:VCALENDAR