BEGIN:VCALENDAR
VERSION:2.0
PRODID:aftelearning.org
BEGIN:VEVENT
UID:69e64e276a8f7
DTSTART:20200806T210000Z
SEQUENCE:0
TRANSP:OPAQUE
DTEND:20200806T220000Z
SUMMARY:Collaboration for the Whole Child (Webinar)
CLASS:PUBLIC
DESCRIPTION:Join Chelsea Prax of the American Federation of Teachers and Sh
 are My Lesson  \nfor a webinar on the challenges befalling instructors of 
 the Special  \nPopulation instructors and how to meet them head-on.\n\n*T
 hursday\, August 6\, 2020\n5:00 - 6:00PM EDT\nFREE\nREGISTER [1]*\n\nWith 
 increasingly dynamic and challenging students\, instructors and  \nspecial
 ized instructional support providers must work to identify strategies  \na
 nd team approaches that address the whole child. This webinar will highlig
 ht  \nways that teachers work closely with these providers\, such as schoo
 l  \ncounselors\, therapists\, behavioral analysts\, social workers\, psyc
 hologist and  \nsocial workers. Participants will engage in a dialogue abo
 ut excellent  \ncommunication to implement student-centered solutions.\n\n
 *REGISTER HERE* [2]\n\n*Available for one-hour of PD credit. A certificate
  of completion will be  \navailable for download at the end of your sessio
 n that you can submit for  \nyour school's or district's approval.*\n\n \
 n\n\n[1] https://event.on24.com/eventRegistration/EventLobbyServlet?target
 =reg30.jsp&amp\;referrer=&amp\;eventid=2519800&amp\;sessionid=1&amp\;key=6
 A5439D7685587DED52ACE324F7D6DF6&amp\;regTag=&amp\;sourcepage=register\n[2]
  https://event.on24.com/eventRegistration/EventLobbyServlet?target=reg30.j
 sp&amp\;referrer=&amp\;eventid=2519800&amp\;sessionid=1&amp\;key=6A5439D76
 85587DED52ACE324F7D6DF6&amp\;regTag=&amp\;sourcepage=register\n
X-ALT-DESC;FMTTYPE=text/html:<p>Join Chelsea Prax of the American Federatio
 n of Teachers and Share My Lesson for a webinar on the challenges befallin
 g instructors of the&nbsp\;Special Population instructors and how to meet 
 them head-on.</p>\n\n<p><strong>Thursday\, August 6\, 2020<br />\n5:00 - 6
 :00PM EDT<br />\nFREE<br />\n<a href=\"https://event.on24.com/eventRegistr
 ation/EventLobbyServlet?target=reg30.jsp&amp\;referrer=&amp\;eventid=25198
 00&amp\;sessionid=1&amp\;key=6A5439D7685587DED52ACE324F7D6DF6&amp\;regTag=
 &amp\;sourcepage=register\" rel=\"noopener\" target=\"_blank\"><u>REGISTER
 </u></a></strong></p>\n\n<p>With increasingly dynamic and challenging stud
 ents\, instructors and specialized instructional support providers must wo
 rk to identify strategies and team approaches that address the whole child
 . This webinar will highlight ways that teachers work closely with these p
 roviders\, such as school counselors\, therapists\, behavioral analysts\, 
 social workers\, psychologist and social workers. Participants will engage
  in a dialogue about excellent communication to implement student-centered
  solutions.</p>\n\n<p><a href=\"https://event.on24.com/eventRegistration/E
 ventLobbyServlet?target=reg30.jsp&amp\;referrer=&amp\;eventid=2519800&amp\
 ;sessionid=1&amp\;key=6A5439D7685587DED52ACE324F7D6DF6&amp\;regTag=&amp\;s
 ourcepage=register\" rel=\"noopener\" target=\"_blank\"><u><strong>REGISTE
 R HERE</strong></u></a></p>\n\n<p><strong>Available for one-hour of PD cre
 dit. A certificate of completion will be available for download at the end
  of your session that you can submit for your school's or district's appro
 val.</strong></p>\n\n<p>&nbsp\;</p>\n
DTSTAMP:20260420T160247Z
END:VEVENT
END:VCALENDAR