BEGIN:VCALENDAR
VERSION:2.0
PRODID:aftelearning.org
BEGIN:VEVENT
UID:69e64f0b55ae8
DTSTART:20200806T170000Z
SEQUENCE:0
TRANSP:OPAQUE
DTEND:20200806T180000Z
SUMMARY:Webinar: AFT Capstones
CLASS:PUBLIC
DESCRIPTION:Join Areli Schermerhorn from the Syracuse City School District
 \, Melissa  \nLabossiere from the Pawtucket School Department and Share 
 My Lesson on a  \nwebinar for preparing to return to school. As schools pr
 epare to welcome  \nstudents for in-person learning and/or remote learning
 \, the AFT understands  \nthe challenges of planning for an uncertain futu
 re\, and we are here to help.\n\n \n\n*Thursday\, August 06\, 2020\n1:00 
 - 2:00PM EDT\nFREE\nREGISTER [1]*\n\n \n\nCapstone Projects\, developed b
 y AFT members\, are well-designed\, project-based  \nlessons that can be u
 sed at the start of the school year\, during the school  \nyear\, or as en
 d-of-the year culminating instruction. Utilizing universal  \ndesign for l
 earning\, grade-level standards\, differentiation strategies\, and  \nperf
 ormance-based assessments\, these lessons for grades K-12 integrate the  \
 nbest practices for teaching diverse populations of students. Teachers can
   \ntake all or parts of the lessons that best address the needs of the st
 udents  \nin their own in-person and/or remote classrooms.\n\nFor our Span
 ish-speaking bilingual educators and students the capstones are  \nalso av
 ailable in Spanish. We will also share info about a free app\, Zigazoo\,  
 \nfilled with fun learning activities to do with students--and for parents
  to  \nuse at home.\n\nJoin us on August 6th to learn more about these eng
 aging teaching resources  \nfor online and in-person learning.\n\n \n\n*R
 EGISTER HERE [2]*\n\n\n[1] https://event.on24.com/eventRegistration/EventL
 obbyServlet?target=reg30.jsp&amp\;referrer=&amp\;eventid=2520273&amp\;sess
 ionid=1&amp\;key=2E5B5714199422C9E42EDC451660351E&amp\;regTag=&amp\;source
 page=register\n[2] https://event.on24.com/eventRegistration/EventLobbyServ
 let?target=reg30.jsp&amp\;referrer=&amp\;eventid=2520273&amp\;sessionid=1&
 amp\;key=2E5B5714199422C9E42EDC451660351E&amp\;regTag=&amp\;sourcepage=reg
 ister\n
X-ALT-DESC;FMTTYPE=text/html:<p>Join Areli Schermerhorn from&nbsp\;the Syra
 cuse City School District\,&nbsp\;Melissa Labossiere from the Pawtucket Sc
 hool Department&nbsp\;and Share My Lesson on a webinar for preparing to re
 turn to school. As schools prepare to welcome students for in-person learn
 ing and/or remote learning\, the AFT understands the challenges of plannin
 g for an uncertain future\, and we are here to help.</p>\n\n<p>&nbsp\;</p>
 \n\n<center>\n<p><strong>Thursday\, August 06\, 2020<br />\n1:00 - 2:00PM 
 EDT<br />\nFREE<br />\n<a href=\"https://event.on24.com/eventRegistration/
 EventLobbyServlet?target=reg30.jsp&amp\;referrer=&amp\;eventid=2520273&amp
 \;sessionid=1&amp\;key=2E5B5714199422C9E42EDC451660351E&amp\;regTag=&amp\;
 sourcepage=register\" target=\"_blank\">REGISTER</a></strong></p>\n\n<p>&n
 bsp\;</p>\n</center>\n\n<p>Capstone Projects\, developed by AFT members\, 
 are well-designed\, project-based lessons that can be used at the start of
  the school year\, during the school year\, or as end-of-the year culminat
 ing instruction. Utilizing universal design for learning\, grade-level sta
 ndards\, differentiation strategies\, and performance-based assessments\, 
 these lessons for grades K-12 integrate the best practices for teaching di
 verse populations of students. Teachers can take all or parts of the lesso
 ns that best address the needs of the students in their own in-person and/
 or remote classrooms.</p>\n\n<p>For our Spanish-speaking bilingual educato
 rs and students the capstones are also available in Spanish. We will also 
 share info about a free app\, Zigazoo\, filled with fun learning activitie
 s to do with students--and for parents to use at home.</p>\n\n<p>Join us o
 n August 6th to learn more about these engaging teaching resources for onl
 ine and in-person learning.</p>\n\n<p>&nbsp\;</p>\n\n<center>\n<p><strong>
 <a href=\"https://event.on24.com/eventRegistration/EventLobbyServlet?targe
 t=reg30.jsp&amp\;referrer=&amp\;eventid=2520273&amp\;sessionid=1&amp\;key=
 2E5B5714199422C9E42EDC451660351E&amp\;regTag=&amp\;sourcepage=register\" t
 arget=\"_blank\">REGISTER HERE</a></strong></p>\n</center>\n
DTSTAMP:20260420T160635Z
END:VEVENT
END:VCALENDAR