BEGIN:VCALENDAR
VERSION:2.0
PRODID:aftelearning.org
BEGIN:VEVENT
UID:69e64e7ae6c29
DTSTART:20200806T180000Z
SEQUENCE:0
TRANSP:OPAQUE
DTEND:20200806T190000Z
SUMMARY:Distance Learning & ELLs Part II: What’s Working\, What’s Not &
  What To Be Ready for in the Fall
CLASS:PUBLIC
DESCRIPTION:Kristina Robertson of the Roseville School District\; Glenda G
 úzman Macal\,  \nFort Bend AFT\, TX and Katherine Kurjakovic from the Un
 ited Federation of  \nTeachers in NY for the continued discussion on the c
 hallenges of distance  \nlearning during the Coronavirus Pandemic.\n\n \n
 \n*Thursday\, August 6\, 2020\n2:00 - 3:00PM EDT\nFree\nREGISTER [1]*\n\n
  \n\nSince the pandemic forced schools to switch to distance learning\, m
 any ELLs  \nhave experienced learning loss\, interrupted schooling\, delay
 s\, trauma and  \nother social-emotional challenges. What do educators and
  administrators need  \nto keep in mind as they prepare for summer learnin
 g opportunities or  \nreopening in the fall. Join us to learn more about a
 ll these issues and how  \nto plan for current and new students.\n\n \n\n
 *REGISTER HERE* [2]\n\n\n[1] https://event.on24.com/eventRegistration/Even
 tLobbyServlet?target=reg30.jsp&amp\;referrer=&amp\;eventid=2494951&amp\;se
 ssionid=1&amp\;key=E71F6F90EB9F675D2CB2E1D7C6523C4C&amp\;regTag=&amp\;sour
 cepage=register\n[2] https://event.on24.com/eventRegistration/EventLobbySe
 rvlet?target=reg30.jsp&amp\;referrer=&amp\;eventid=2494951&amp\;sessionid=
 1&amp\;key=E71F6F90EB9F675D2CB2E1D7C6523C4C&amp\;regTag=&amp\;sourcepage=r
 egister\n
X-ALT-DESC;FMTTYPE=text/html:<p>Kristina Robertson of the Roseville School 
 District\;&nbsp\;Glenda Gúzman Macal\, Fort Bend AFT\, TX and&nbsp\;Kathe
 rine Kurjakovic from the United Federation of Teachers in NY for the conti
 nued discussion on the challenges of distance learning during the Coronavi
 rus Pandemic.</p>\n\n<p>&nbsp\;</p>\n\n<center>\n<p><strong>Thursday\, Aug
 ust 6\,&nbsp\;2020<br />\n2:00 - 3:00PM EDT<br />\nFree<br />\n<a href=\"h
 ttps://event.on24.com/eventRegistration/EventLobbyServlet?target=reg30.jsp
 &amp\;referrer=&amp\;eventid=2494951&amp\;sessionid=1&amp\;key=E71F6F90EB9
 F675D2CB2E1D7C6523C4C&amp\;regTag=&amp\;sourcepage=register\" rel=\"noopen
 er\" target=\"_blank\"><u>REGISTER</u></a></strong></p>\n</center>\n\n<p>&
 nbsp\;</p>\n\n<p>Since the pandemic forced schools to switch to distance l
 earning\, many ELLs have experienced learning loss\, interrupted schooling
 \, delays\, trauma and other social-emotional challenges. What do educator
 s and administrators need to keep in mind as they prepare for summer learn
 ing opportunities or reopening in the fall. Join us to learn more about al
 l these issues and how to plan for current and new students.</p>\n\n<p>&nb
 sp\;</p>\n\n<center>\n<p><a href=\"https://event.on24.com/eventRegistratio
 n/EventLobbyServlet?target=reg30.jsp&amp\;referrer=&amp\;eventid=2494951&a
 mp\;sessionid=1&amp\;key=E71F6F90EB9F675D2CB2E1D7C6523C4C&amp\;regTag=&amp
 \;sourcepage=register\" rel=\"noopener\" target=\"_blank\"><u><strong>REGI
 STER HERE</strong></u></a></p>\n</center>\n
DTSTAMP:20260420T160410Z
END:VEVENT
END:VCALENDAR