BEGIN:VCALENDAR
VERSION:2.0
PRODID:aftelearning.org
BEGIN:VEVENT
UID:69e64ebdc94e0
DTSTART:20200806T200000Z
SEQUENCE:0
TRANSP:OPAQUE
DTEND:20200806T210000Z
SUMMARY:Engagement Strategies For Reimagined Classrooms
CLASS:PUBLIC
DESCRIPTION:Join Jennifer Ehehalt of Common Sense Education [1] and Share
  My Lesson for  \na webinar discussing technology and distance learning fo
 r the Fall session.\n\n \n\n*Thursday\, August 6\, 2020\n4:00 - 5:00PM ED
 T\nFREE\nREGISTER [2]*\n\n \n\nWhether we are in a 6 foot spaced classroo
 m or online\, our classrooms are  \ngoing to look different. No longer can
  we rely on our regular pair and share  \nor group work formats. That does
 n’t mean collaboration and sharing is over.\n\nHow can we take what we a
 lready know about engaging students and translate it  \nto distanced learn
 ing experiences? This webinar will provide examples from a  \nrange of tec
 h options that turn your in-class activities to ones you can use  \nthis f
 all.\n\n \n\n*REGISTER HERE [3]*\n\n\n[1] https://sharemylesson.com/partn
 er/common-sense-education\n[2] https://event.on24.com/eventRegistration/Ev
 entLobbyServlet?target=reg30.jsp&amp\;referrer=&amp\;eventid=2519771&amp\;
 sessionid=1&amp\;key=CFC786544D6797440F56873B34D3545E&amp\;regTag=&amp\;so
 urcepage=register\n[3] https://event.on24.com/eventRegistration/EventLobby
 Servlet?target=reg30.jsp&amp\;referrer=&amp\;eventid=2519771&amp\;sessioni
 d=1&amp\;key=CFC786544D6797440F56873B34D3545E&amp\;regTag=&amp\;sourcepage
 =register\n
X-ALT-DESC;FMTTYPE=text/html:<p>Join Jennifer Ehehalt of&nbsp\;<u><a href=\
 "https://sharemylesson.com/partner/common-sense-education\" target=\"_blan
 k\">Common Sense Education</a></u>&nbsp\;and Share My Lesson for a webinar
  discussing technology and distance learning for the Fall session.</p>\n\n
 <p>&nbsp\;</p>\n\n<center>\n<p><strong>Thursday\, August 6\, 2020<br />\n4
 :00 - 5:00PM EDT<br />\nFREE<br />\n<a href=\"https://event.on24.com/event
 Registration/EventLobbyServlet?target=reg30.jsp&amp\;referrer=&amp\;eventi
 d=2519771&amp\;sessionid=1&amp\;key=CFC786544D6797440F56873B34D3545E&amp\;
 regTag=&amp\;sourcepage=register\" rel=\"noopener\" target=\"_blank\"><u>R
 EGISTER</u></a></strong></p>\n</center>\n\n<p>&nbsp\;</p>\n\n<p>Whether we
  are in a 6 foot spaced classroom or online\, our classrooms are going to 
 look different. No longer can we rely on our regular pair and share or gro
 up work formats. That doesn’t mean collaboration and sharing is over.</p
 >\n\n<p>How can we take what we already know about engaging students and t
 ranslate it to distanced learning experiences? This webinar will provide e
 xamples from a range of tech options that turn your in-class activities to
  ones you can use this fall.</p>\n\n<p>&nbsp\;</p>\n\n<center>\n<p><u><str
 ong><a href=\"https://event.on24.com/eventRegistration/EventLobbyServlet?t
 arget=reg30.jsp&amp\;referrer=&amp\;eventid=2519771&amp\;sessionid=1&amp\;
 key=CFC786544D6797440F56873B34D3545E&amp\;regTag=&amp\;sourcepage=register
 \" rel=\"noopener\" target=\"_blank\">REGISTER HERE</a></strong></u></p>\n
 </center>\n
DTSTAMP:20260420T160517Z
END:VEVENT
END:VCALENDAR