BEGIN:VCALENDAR
VERSION:2.0
PRODID:aftelearning.org
BEGIN:VEVENT
UID:69e64e5b4d218
DTSTART:20200806T210000Z
SEQUENCE:0
TRANSP:OPAQUE
DTEND:20200806T220000Z
SUMMARY:Collaboration for the Whole Child
CLASS:PUBLIC
DESCRIPTION:Join Chelsea Prax of the American Federation of Teachers and Sh
 are My Lesson  \nfor a webinar on the challenges befalling instructors of 
 the Special  \nPopulation instructors and how to meet them head-on.\n\n 
 \n\n*Thursday\, August 6\, 2020\n5:00 - 6:00PM EDT\nFREE\nREGISTER [1]*\n\
 n \n\nWith increasingly dynamic and challenging students\, instructors an
 d  \nspecialized instructional support providers must work to identify str
 ategies  \nand team approaches that address the whole child. This webinar 
 will highlight  \nways that teachers work closely with these providers\, s
 uch as school  \ncounselors\, therapists\, behavioral analysts\, social wo
 rkers\, psychologist and  \nsocial workers. Participants will engage in a 
 dialogue about excellent  \ncommunication to implement student-centered so
 lutions.\n\n \n\n*REGISTER HERE* [2]\n\n\n[1] https://event.on24.com/even
 tRegistration/EventLobbyServlet?target=reg30.jsp&amp\;referrer=&amp\;event
 id=2519800&amp\;sessionid=1&amp\;key=6A5439D7685587DED52ACE324F7D6DF6&amp\
 ;regTag=&amp\;sourcepage=register\n[2] https://event.on24.com/eventRegistr
 ation/EventLobbyServlet?target=reg30.jsp&amp\;referrer=&amp\;eventid=25198
 00&amp\;sessionid=1&amp\;key=6A5439D7685587DED52ACE324F7D6DF6&amp\;regTag=
 &amp\;sourcepage=register\n
X-ALT-DESC;FMTTYPE=text/html:<p>Join Chelsea Prax of the American Federatio
 n of Teachers and Share My Lesson for a webinar on the challenges befallin
 g instructors of the&nbsp\;Special Population instructors and how to meet 
 them head-on.</p>\n\n<p>&nbsp\;</p>\n\n<center>\n<p><strong>Thursday\, Aug
 ust 6\, 2020<br />\n5:00 - 6:00PM EDT<br />\nFREE<br />\n<a href=\"https:/
 /event.on24.com/eventRegistration/EventLobbyServlet?target=reg30.jsp&amp\;
 referrer=&amp\;eventid=2519800&amp\;sessionid=1&amp\;key=6A5439D7685587DED
 52ACE324F7D6DF6&amp\;regTag=&amp\;sourcepage=register\" target=\"_blank\">
 REGISTER</a></strong></p>\n</center>\n\n<p>&nbsp\;</p>\n\n<p>With increasi
 ngly dynamic and challenging students\, instructors and specialized instru
 ctional support providers must work to identify strategies and team approa
 ches that address the whole child. This webinar will highlight ways that t
 eachers work closely with these providers\, such as school counselors\, th
 erapists\, behavioral analysts\, social workers\, psychologist and social 
 workers. Participants will engage in a dialogue about excellent communicat
 ion to implement student-centered solutions.</p>\n\n<p>&nbsp\;</p>\n\n<cen
 ter>\n<p><a href=\"https://event.on24.com/eventRegistration/EventLobbyServ
 let?target=reg30.jsp&amp\;referrer=&amp\;eventid=2519800&amp\;sessionid=1&
 amp\;key=6A5439D7685587DED52ACE324F7D6DF6&amp\;regTag=&amp\;sourcepage=reg
 ister\" target=\"_blank\"><strong>REGISTER HERE</strong></a></p>\n</center
 >\n
DTSTAMP:20260420T160339Z
END:VEVENT
END:VCALENDAR