BEGIN:VCALENDAR
VERSION:2.0
PRODID:aftelearning.org
BEGIN:VEVENT
UID:69e64e17f14f9
DTSTART:20200728T150000Z
SEQUENCE:0
TRANSP:OPAQUE
DTEND:20200730T213000Z
SUMMARY:AFT Convention 2020
CLASS:PUBLIC
DESCRIPTION:Find the 2020 AFT Convention schedule  \nhere: https://www.aft
 .org/convention/schedule [1] \n\n\n[1] https://www.aft.org/convention/sch
 edule\n
X-ALT-DESC;FMTTYPE=text/html:<p>Find the 2020 AFT Convention schedule here:
 &nbsp\;<a href=\"https://www.aft.org/convention/schedule\">https://www.aft
 .org/convention/schedule</a>&nbsp\;</p>\n
DTSTAMP:20260420T160232Z
END:VEVENT
END:VCALENDAR