BEGIN:VCALENDAR
VERSION:2.0
PRODID:aftelearning.org
BEGIN:VEVENT
UID:69e64e4b31a7e
DTSTART:20200813T170000Z
SEQUENCE:0
TRANSP:OPAQUE
DTEND:20200813T180000Z
SUMMARY:A Strategic Approach: Navigating College and Career Planning
CLASS:PUBLIC
DESCRIPTION:Join Bryan Contreras of myOptions® and Share My Lesson for a w
 orkshop on how  \nto support students and families as they navigate post-s
 econdary planning.\n\n \n\n*Thursday\, August 13\, 2020\n1:00 - 2:00PM ED
 T\nFREE*\n\n*REGISTER [1]*\n\n \n\nEducators and mentors will have an opp
 ortunity to learn about “best  \npractices” from the field on how best
  to stay connected with students\,  \nwhether you are back at school or me
 ntoring at a distance.\n\nParticipants will receive an introduction to myO
 ptions Encourage\, a free  \neducator platform that connects educators\, s
 tudents and parents in the  \npost-secondary process.\n\n \n\n*REGISTER H
 ERE [2]*\n\n\n[1] https://event.on24.com/eventRegistration/EventLobbyServl
 et?target=reg30.jsp&amp\;referrer=&amp\;eventid=2495003&amp\;sessionid=1&a
 mp\;key=1B3FFE9BC3639777155CC876842B6B4E&amp\;regTag=&amp\;sourcepage=regi
 ster\n[2] https://event.on24.com/eventRegistration/EventLobbyServlet?targe
 t=reg30.jsp&amp\;referrer=&amp\;eventid=2495003&amp\;sessionid=1&amp\;key=
 1B3FFE9BC3639777155CC876842B6B4E&amp\;regTag=&amp\;sourcepage=register\n
X-ALT-DESC;FMTTYPE=text/html:<p>Join Bryan Contreras of myOptions® and Sha
 re My Lesson for a workshop on how to support students and families as the
 y navigate post-secondary planning.</p>\n\n<p>&nbsp\;</p>\n\n<center>\n<p>
 <strong>Thursday\, August 13\, 2020<br />\n1:00 - 2:00PM EDT<br />\nFREE</
 strong></p>\n</center>\n\n<center>\n<p><strong><u><a href=\"https://event.
 on24.com/eventRegistration/EventLobbyServlet?target=reg30.jsp&amp\;referre
 r=&amp\;eventid=2495003&amp\;sessionid=1&amp\;key=1B3FFE9BC3639777155CC876
 842B6B4E&amp\;regTag=&amp\;sourcepage=register\" rel=\"noopener\" target=\
 "_blank\">REGISTER</a></u></strong></p>\n</center>\n\n<p>&nbsp\;</p>\n\n<p
 >Educators and mentors will have an opportunity to learn about “best pra
 ctices” from the field on how best to stay connected with students\, whe
 ther you are back at school or mentoring at a distance.</p>\n\n<p>Particip
 ants will receive an introduction to myOptions Encourage\, a free educator
  platform that connects educators\, students and parents in the post-secon
 dary process.</p>\n\n<p>&nbsp\;</p>\n\n<center>\n<p><u><strong><a href=\"h
 ttps://event.on24.com/eventRegistration/EventLobbyServlet?target=reg30.jsp
 &amp\;referrer=&amp\;eventid=2495003&amp\;sessionid=1&amp\;key=1B3FFE9BC36
 39777155CC876842B6B4E&amp\;regTag=&amp\;sourcepage=register\" rel=\"noopen
 er\" target=\"_blank\">REGISTER HERE</a></strong></u></p>\n</center>\n
DTSTAMP:20260420T160323Z
END:VEVENT
END:VCALENDAR