BEGIN:VCALENDAR
VERSION:2.0
PRODID:aftelearning.org
BEGIN:VEVENT
UID:69e64df916498
DTSTART:20200813T180000Z
SEQUENCE:0
TRANSP:OPAQUE
DTEND:20200813T190000Z
SUMMARY:Back to School: Redefining the New Norm of Hybrid Education
CLASS:PUBLIC
DESCRIPTION:Join Georgina Dean and Share My Lesson for a webinar to learn 
 about  \nquestions leaders are co\n\nnsidering\, skills that educators are
  looking to continue building over the  \nsummer\, and possible strategies
  to approach a hybrid education model.\n\n*Thursday\, August 13\, 2020\n2:
 00 - 3:00PM EDT\nFree\nREGISTER [1]*\n\n \n\nIt's time for educators and 
 administration leaders to start thinking about  \n#backtoschool. We will 
 be exploring hybrid approaches to the new academic  \nyear\, by expanding 
 on positive takeaways from emergency remote learning these  \npast few mon
 ths. Join us\n\n \n\n*REGISTER HERE* [2]\n\n\n[1] https://event.on24.com/
 eventRegistration/EventLobbyServlet?target=reg30.jsp&amp\;referrer=&amp\;e
 ventid=2495023&amp\;sessionid=1&amp\;key=879CCDEAAD5E369575E11ECDA36FB42F&
 amp\;regTag=&amp\;sourcepage=register\n[2] https://event.on24.com/eventReg
 istration/EventLobbyServlet?target=reg30.jsp&amp\;referrer=&amp\;eventid=2
 495023&amp\;sessionid=1&amp\;key=879CCDEAAD5E369575E11ECDA36FB42F&amp\;reg
 Tag=&amp\;sourcepage=register\n
X-ALT-DESC;FMTTYPE=text/html:<p>Join Georgina Dean and Share My Lesson for 
 a webinar&nbsp\;to learn about questions leaders are co</p>\n\n<p>nsiderin
 g\, skills that educators are looking to continue building over the summer
 \, and possible strategies to approach a hybrid education model.</p>\n\n<c
 enter>\n<p><strong>Thursday\, August 13\, 2020<br />\n2:00 - 3:00PM EDT<br
  />\nFree<br />\n<a href=\"https://event.on24.com/eventRegistration/EventL
 obbyServlet?target=reg30.jsp&amp\;referrer=&amp\;eventid=2495023&amp\;sess
 ionid=1&amp\;key=879CCDEAAD5E369575E11ECDA36FB42F&amp\;regTag=&amp\;source
 page=register\" target=\"_blank\">REGISTER</a></strong></p>\n\n<p>&nbsp\;<
 /p>\n</center>\n\n<p>It's time for educators and administration leaders to
  start thinking about #backtoschool.&nbsp\;We will be exploring hybrid app
 roaches to the new academic year\, by expanding on positive takeaways from
  emergency remote learning these past few months. Join us</p>\n\n<p>&nbsp\
 ;</p>\n\n<center>\n<p><a href=\"https://event.on24.com/eventRegistration/E
 ventLobbyServlet?target=reg30.jsp&amp\;referrer=&amp\;eventid=2495023&amp\
 ;sessionid=1&amp\;key=879CCDEAAD5E369575E11ECDA36FB42F&amp\;regTag=&amp\;s
 ourcepage=register\" target=\"_blank\"><strong>REGISTER HERE</strong></a><
 /p>\n</center>\n
DTSTAMP:20260420T160201Z
END:VEVENT
END:VCALENDAR