BEGIN:VCALENDAR
VERSION:2.0
PRODID:aftelearning.org
BEGIN:VEVENT
UID:69e64e4ad16e0
DTSTART:20200813T200000Z
SEQUENCE:0
TRANSP:OPAQUE
DTEND:20200813T210000Z
SUMMARY:Fostering SEL and Self-Care for Our Students in the Corona Era
CLASS:PUBLIC
DESCRIPTION:Join Victoria Cheng-Gorini of Morningside Center for Teaching
  Social  \nResponsibility [1] and Share My Lesson for a session on distan
 ce learning.\n\n*Thursday\, August 13\, 2020*\n*4:00 - 5:00PM EDT*\n*FREE*
 \n*REGISTER* [2]\n\nIn this webinar\, staff from Morningside Center for Te
 aching Social  \nResponsibility will share strategies for encouraging soci
 al and emotional  \nlearning and self-care in our students through remote 
 learning platforms. We  \nwill:\n\n * Provide guidelines for opening up di
 alogue around difficult feelings and\n   ideas that are coming up for stud
 ents during these hard times.\n * Suggest ways that students can express t
 hose feelings and ideas through\n   music\, art\, physical activities\, wr
 itten prose\, and more.\n * Provide guidance on how both we and our studen
 ts can step away from it all\n   and get through this challenging period t
 hrough self-talk and breathing\n   exercises. • Look into self-care rout
 ines for educators as well\, as we\n   move into a new uncharted school ye
 ar.\n\n*REGISTER HERE [3]*\n\n\n[1] https://sharemylesson.com/partner/morn
 ingside-center-teaching-social-responsibility\n[2] https://event.on24.com/
 eventRegistration/EventLobbyServlet?target=reg30.jsp&amp\;referrer=&amp\;e
 ventid=2495034&amp\;sessionid=1&amp\;key=3B2F6493F290F20965373A0F8FDC29A4&
 amp\;regTag=&amp\;sourcepage=register\n[3] https://event.on24.com/eventReg
 istration/EventLobbyServlet?target=reg30.jsp&amp\;referrer=&amp\;eventid=2
 495034&amp\;sessionid=1&amp\;key=3B2F6493F290F20965373A0F8FDC29A4&amp\;reg
 Tag=&amp\;sourcepage=register\n
X-ALT-DESC;FMTTYPE=text/html:<p>Join&nbsp\;Victoria Cheng-Gorini of&nbsp\;<
 u><a href=\"https://sharemylesson.com/partner/morningside-center-teaching-
 social-responsibility\" target=\"_blank\">Morningside Center for Teaching 
 Social Responsibility</a></u>&nbsp\;and Share My Lesson for a session on d
 istance learning.</p>\n\n<center>\n<p><strong>Thursday\, August 13\, 2020<
 /strong><br />\n<strong>4:00 - 5:00PM EDT</strong><br />\n<strong>FREE</st
 rong><br />\n<a href=\"https://event.on24.com/eventRegistration/EventLobby
 Servlet?target=reg30.jsp&amp\;referrer=&amp\;eventid=2495034&amp\;sessioni
 d=1&amp\;key=3B2F6493F290F20965373A0F8FDC29A4&amp\;regTag=&amp\;sourcepage
 =register\" rel=\"noopener\" target=\"_blank\"><u><strong>REGISTER</strong
 ></u></a></p>\n</center>\n\n<p>In this webinar\, staff from Morningside Ce
 nter for Teaching Social Responsibility will share strategies for encourag
 ing social and emotional learning and self-care in our students through re
 mote learning platforms. We will:</p>\n\n<ul>\n<li>Provide guidelines for 
 opening up dialogue around difficult feelings and ideas that are coming up
  for students during these hard times.</li>\n<li>Suggest ways that student
 s can express those feelings and ideas through music\, art\, physical acti
 vities\, written prose\, and more.</li>\n<li>Provide guidance on how both 
 we and our students can step away from it all and get through this challen
 ging period through self-talk and breathing exercises. • Look into self-
 care routines for educators as well\, as we move into a new uncharted scho
 ol year.</li>\n</ul>\n\n<center>\n<p><u><strong><a href=\"https://event.on
 24.com/eventRegistration/EventLobbyServlet?target=reg30.jsp&amp\;referrer=
 &amp\;eventid=2495034&amp\;sessionid=1&amp\;key=3B2F6493F290F20965373A0F8F
 DC29A4&amp\;regTag=&amp\;sourcepage=register\" rel=\"noopener\" target=\"_
 blank\">REGISTER HERE</a></strong></u></p>\n</center>\n
DTSTAMP:20260420T160322Z
END:VEVENT
END:VCALENDAR