BEGIN:VCALENDAR
VERSION:2.0
PRODID:aftelearning.org
BEGIN:VEVENT
UID:69e64e27d729b
DTSTART:20200813T210000Z
SEQUENCE:0
TRANSP:OPAQUE
DTEND:20200813T220000Z
SUMMARY:9 Ways Educators Can Support Students Experiencing Trauma
CLASS:PUBLIC
DESCRIPTION:Join Juyle Williams of First Book [1] and Share My Lesson for
  this webinar  \non the affects of trauma and how to manage it.\n\n*Thursd
 ay\, August 13\, 2020\n5:00 - 6:00PM EDT\nFREE\nREGISTER [2]*\n\nPresented
  by First Book and informed by experts in the area of childhood  \ntrauma\
 , this workshop is designed to provide an overview of the causes and  \nsy
 mptoms of trauma\, offer insight on frequently asked questions\, and provi
 de  \nactionable steps educators and caring adults can take to support the
  learning  \nand development of their students.\n\nParticipants will learn
  how trauma affects learning\, how it manifests in  \nstudents\, and explo
 re recommended strategies to help students cope with their  \nemotions\, m
 anage meltdowns\, and more. All attendees will receive a copy of  \nFirst 
 Books “Trauma Toolkit” which will include actionable steps you can  \n
 take to support your students.\n\n*REGISTER HERE [3]*\n\n\n[1] https://sha
 remylesson.com/partner/first-book\n[2] https://event.on24.com/eventRegistr
 ation/EventLobbyServlet?target=reg30.jsp&amp\;referrer=&amp\;eventid=25198
 70&amp\;sessionid=1&amp\;key=EC7A3236E0EA254B40664FD6C1283654&amp\;regTag=
 &amp\;sourcepage=register\n[3] https://event.on24.com/eventRegistration/Ev
 entLobbyServlet?target=reg30.jsp&amp\;referrer=&amp\;eventid=2519870&amp\;
 sessionid=1&amp\;key=EC7A3236E0EA254B40664FD6C1283654&amp\;regTag=&amp\;so
 urcepage=register\n
X-ALT-DESC;FMTTYPE=text/html:<p>Join Juyle Williams of&nbsp\;<u><a href=\"h
 ttps://sharemylesson.com/partner/first-book\" target=\"_blank\">First Book
 </a></u>&nbsp\;and Share My Lesson for this webinar on the affects of trau
 ma and how to manage it.</p>\n\n<center><p><strong>Thursday\, August 13\, 
 2020<br />\n5:00 - 6:00PM EDT<br />\nFREE<br />\n<u><a href=\"https://even
 t.on24.com/eventRegistration/EventLobbyServlet?target=reg30.jsp&amp\;refer
 rer=&amp\;eventid=2519870&amp\;sessionid=1&amp\;key=EC7A3236E0EA254B40664F
 D6C1283654&amp\;regTag=&amp\;sourcepage=register\" rel=\"noopener\" target
 =\"_blank\">REGISTER</a></u></strong></p></center>\n\n<p>Presented by Firs
 t Book and informed by experts in the area of childhood trauma\, this work
 shop is designed to provide an overview of the causes and symptoms of trau
 ma\, offer insight on frequently asked questions\, and provide actionable 
 steps educators and caring adults can take to support the learning and dev
 elopment of their students.</p>\n\n<p>Participants will learn how trauma a
 ffects learning\, how it manifests in students\, and explore recommended s
 trategies to help students cope with their emotions\, manage meltdowns\, a
 nd more. All attendees will receive a copy of First Books “Trauma Toolki
 t” which will include actionable steps you can take to support your stud
 ents.</p>\n\n<center><p><strong><a href=\"https://event.on24.com/eventRegi
 stration/EventLobbyServlet?target=reg30.jsp&amp\;referrer=&amp\;eventid=25
 19870&amp\;sessionid=1&amp\;key=EC7A3236E0EA254B40664FD6C1283654&amp\;regT
 ag=&amp\;sourcepage=register\" rel=\"noopener\" target=\"_blank\"><u>REGIS
 TER HERE</u></a></strong></p></center>\n
DTSTAMP:20260420T160247Z
END:VEVENT
END:VCALENDAR