BEGIN:VCALENDAR
VERSION:2.0
PRODID:aftelearning.org
BEGIN:VEVENT
UID:69e64de488982
DTSTART:20200813T220000Z
SEQUENCE:0
TRANSP:OPAQUE
DTEND:20200813T230000Z
SUMMARY:Teaching Reading Is Rocket Science\, 2020: What Expert Teachers of 
 Reading Should Know and Be Able to Do
CLASS:PUBLIC
DESCRIPTION:Please join Louisa C. Moats\, renowned researcher and author\,
  two AFT  \nNational Literacy trainers and Share My Lesson for a webinar 
 to hear about  \nhow the science of reading can be implemented in virtual 
 and physical  \nclassrooms alike.\n\n \n\n*Thursday\, August 13\, 2020*\n
 *6:00 - 7:00PM EDT*\n*FREE*\n*REGISTER [1]*\n\n \n\nIt’s been 20 years 
 since Teaching Reading Is Rocket Science was published.  \nThis new versio
 n of the seminal report reinforces and extends our  \nunderstanding of lit
 eracy instruction. Read the report and find more great  \nAFT literacy res
 ources at aft.org/position/reading-instruction [2].\n\n \n\n*REGISTER HE
 RE* [3]\n\n\n[1] https://event.on24.com/eventRegistration/EventLobbyServle
 t?target=reg30.jsp&amp\;referrer=&amp\;eventid=2540092&amp\;sessionid=1&am
 p\;key=B237B7C79795B82CCA5CDDE3F68CA24E&amp\;regTag=&amp\;sourcepage=regis
 ter\n[2] http://aft.org/position/reading-instruction\n[3] https://event.on
 24.com/eventRegistration/EventLobbyServlet?target=reg30.jsp&amp\;referrer=
 &amp\;eventid=2540092&amp\;sessionid=1&amp\;key=B237B7C79795B82CCA5CDDE3F6
 8CA24E&amp\;regTag=&amp\;sourcepage=register\n
X-ALT-DESC;FMTTYPE=text/html:<p>Please join Louisa C. Moats\,&nbsp\;renowne
 d researcher and author\,&nbsp\;two AFT National Literacy trainers and Sha
 re My Lesson for a webinar to hear about how the science of reading can be
  implemented in virtual and physical classrooms alike.</p>\n\n<p>&nbsp\;</
 p>\n\n<center>\n<p><strong>Thursday\, August 13\, 2020</strong><br />\n<st
 rong>6:00 - 7:00PM EDT</strong><br />\n<strong>FREE</strong><br />\n<stron
 g><u><a href=\"https://event.on24.com/eventRegistration/EventLobbyServlet?
 target=reg30.jsp&amp\;referrer=&amp\;eventid=2540092&amp\;sessionid=1&amp\
 ;key=B237B7C79795B82CCA5CDDE3F68CA24E&amp\;regTag=&amp\;sourcepage=registe
 r\" rel=\"noopener\" target=\"_blank\">REGISTER</a></u></strong></p>\n\n<p
 >&nbsp\;</p>\n</center>\n\n<p>It’s been 20 years since Teaching Reading 
 Is Rocket Science was published. This new version of the seminal report re
 inforces and extends our understanding of literacy instruction. Read the r
 eport and find more great AFT literacy resources at&nbsp\;<a href=\"http:/
 /aft.org/position/reading-instruction\" rel=\"noopener\" target=\"_blank\"
 >aft.org/position/reading-instruction</a>.</p>\n\n<p>&nbsp\;</p>\n\n<cente
 r>\n<p><a href=\"https://event.on24.com/eventRegistration/EventLobbyServle
 t?target=reg30.jsp&amp\;referrer=&amp\;eventid=2540092&amp\;sessionid=1&am
 p\;key=B237B7C79795B82CCA5CDDE3F68CA24E&amp\;regTag=&amp\;sourcepage=regis
 ter\" rel=\"noopener\" target=\"_blank\"><u><strong>REGISTER HERE</strong>
 </u></a></p>\n</center>\n
DTSTAMP:20260420T160140Z
END:VEVENT
END:VCALENDAR