BEGIN:VCALENDAR
VERSION:2.0
PRODID:aftelearning.org
BEGIN:VEVENT
UID:69e47fd18f4b6
DTSTART:20200820T180000Z
SEQUENCE:0
TRANSP:OPAQUE
DTEND:20200820T190000Z
SUMMARY:Teaching News & Media Literacy in an Election Year
CLASS:PUBLIC
DESCRIPTION:Join Jeff Knutson of Common Sense Education [1] and Share My 
 Lesson for a  \nwebinar on understanding the media during an election yea
 r.\n\n*Thursday\, August 20\, 2020\n2:00 - 3:00PM EDT\nFREE\nREGISTER [2]*
 \n\nNavigating the news and media landscape can be challenging—especiall
 y in an  \nelection year. From wall-to-wall campaign coverage to attack ad
 s and stump  \nspeeches\, there's a lot to process – especially for stud
 ents. Some  \npolitical tricks\, like October surprises\, have been around
  for a long time\,  \nbut young people might not understand them. And in t
 he digital world\, things  \nget even thornier and more complex\, from soc
 ial media bots\, deepfake videos\,  \ndata voids\, and viral memes (just t
 o name a few). These news and media  \nliteracy challenges are important t
 opics for students to consider.\n\nYoung people are curious about what the
 y're seeing and hearing online and in  \nthe news\, and they bring this cu
 riosity into the classroom – and eventually  \nthe voting booth. Neverth
 eless\, many teachers find it challenging to discuss  \nthe news and curre
 nt events topics with their students. So\, how can we help  \nthem explore
  these issues?\n\nJoin our webinar to learn about:\n\n- Where to find qual
 ity resources to teach news and media literacy in your  \nclassroom.\n\n- 
 Tips on facilitating discussions and lessons about the news and current  \
 nevents.\n\n- Easy\, grab-and-go activities aimed at students' news and me
 dia literacy in  \nan election year.\n\n*REGISTER HERE* [3]\n\n\n[1] https
 ://sharemylesson.com/partner/common-sense-education\n[2] https://event.on2
 4.com/eventRegistration/EventLobbyServlet?target=reg30.jsp&amp\;referrer=&
 amp\;eventid=2519843&amp\;sessionid=1&amp\;key=10BE8CB53A060B06A34E810565B
 08796&amp\;regTag=&amp\;sourcepage=register\n[3] https://event.on24.com/ev
 entRegistration/EventLobbyServlet?target=reg30.jsp&amp\;referrer=&amp\;eve
 ntid=2519843&amp\;sessionid=1&amp\;key=10BE8CB53A060B06A34E810565B08796&am
 p\;regTag=&amp\;sourcepage=register\n
X-ALT-DESC;FMTTYPE=text/html:<p>Join Jeff Knutson of&nbsp\;<u><a href=\"htt
 ps://sharemylesson.com/partner/common-sense-education\" target=\"_blank\">
 Common Sense Education</a></u>&nbsp\;and Share My Lesson for a webinar on 
 understanding the media during an&nbsp\;election year.</p>\n\n<center><p><
 strong>Thursday\, August 20\, 2020<br />\n2:00 - 3:00PM EDT<br />\nFREE<br
  />\n<u><a href=\"https://event.on24.com/eventRegistration/EventLobbyServl
 et?target=reg30.jsp&amp\;referrer=&amp\;eventid=2519843&amp\;sessionid=1&a
 mp\;key=10BE8CB53A060B06A34E810565B08796&amp\;regTag=&amp\;sourcepage=regi
 ster\" rel=\"noopener\" target=\"_blank\">REGISTER</a></u></strong></p></c
 enter>\n\n<p>Navigating the news and media landscape can be challenging—
 especially in an election year. From wall-to-wall campaign coverage to att
 ack ads and stump speeches\, there's a lot to process – especially for s
 tudents. Some political tricks\, like October surprises\, have been around
  for a long time\, but young people might not understand them. And in the 
 digital world\, things get even thornier and more complex\, from social me
 dia bots\, deepfake videos\, data voids\, and viral memes (just to name a 
 few). These news and media literacy challenges are important topics for st
 udents to consider.</p>\n\n<p>Young people are curious about what they're 
 seeing and hearing online and in the news\, and they bring this curiosity 
 into the classroom – and eventually the voting booth. Nevertheless\, man
 y teachers find it challenging to discuss the news and current events topi
 cs with their students. So\, how can we help them explore these issues?</p
 >\n\n<p>Join our webinar to learn about:</p>\n\n<p>- Where to find quality
  resources to teach news and media literacy in your classroom.</p>\n\n<p>-
  Tips on facilitating discussions and lessons about the news and current e
 vents.</p>\n\n<p>- Easy\, grab-and-go activities aimed at students' news a
 nd media literacy in an election year.</p>\n\n<center><p><a href=\"https:/
 /event.on24.com/eventRegistration/EventLobbyServlet?target=reg30.jsp&amp\;
 referrer=&amp\;eventid=2519843&amp\;sessionid=1&amp\;key=10BE8CB53A060B06A
 34E810565B08796&amp\;regTag=&amp\;sourcepage=register\" rel=\"noopener\" t
 arget=\"_blank\"><strong><u>REGISTER HERE</u></strong></a></p></center>\n
DTSTAMP:20260419T071009Z
END:VEVENT
END:VCALENDAR