BEGIN:VCALENDAR
VERSION:2.0
PRODID:aftelearning.org
BEGIN:VEVENT
UID:69e60272e0329
DTSTART:20200820T190000Z
SEQUENCE:0
TRANSP:OPAQUE
DTEND:20200820T200000Z
SUMMARY:Manage Your Message: Creating Clear Expectations for Students and F
 amilies
CLASS:PUBLIC
DESCRIPTION:Join Amber Chandler [1] and Share My Lesson for this webinar 
 on effective  \ncommunication strategies.\n\n*Thursday\, August 20\, 2020*
 \n*3:00 - 4:00PM EDT*\n*Free*\n*Register* [2]\n\nGoogle Classroom. Youtub
 e. iReady. Google Meet. Email. Parent Portal. These  \nare just some of th
 e platforms and programs that are being used to support  \nour students.\n
 \nAs well-intentioned as we are\, the amount of information begin shared i
 s  \noverwhelming. Students and parents are experiencing fatigue and frust
 ration  \nfrom distance learning. What can we do about it?\n\nThis webinar
  will show educators an effective strategy for communicating that  \nwill 
 allow students to be more successful\, families to feel better informed\, 
  \nand classes to run more smoothly.\n\n*REGISTER HERE* [3]\n\n\n[1] https
 ://sharemylesson.com/partner/amber-chandler\n[2] https://event.on24.com/ev
 entRegistration/EventLobbyServlet?target=reg30.jsp&amp\;referrer=&amp\;eve
 ntid=2495404&amp\;sessionid=1&amp\;key=274694542929576A6441FC76C5F20B11&am
 p\;regTag=&amp\;sourcepage=register\n[3] https://event.on24.com/eventRegis
 tration/EventLobbyServlet?target=reg30.jsp&amp\;referrer=&amp\;eventid=249
 5404&amp\;sessionid=1&amp\;key=274694542929576A6441FC76C5F20B11&amp\;regTa
 g=&amp\;sourcepage=register\n
X-ALT-DESC;FMTTYPE=text/html:<p>Join&nbsp\;<u><a href=\"https://sharemyless
 on.com/partner/amber-chandler\" target=\"_blank\">Amber Chandler</a></u>&n
 bsp\;and Share My Lesson for this webinar on effective communication strat
 egies.</p>\n\n<center><p><strong>Thursday\, August 20\, 2020</strong><br /
 >\n<strong>3:00 - 4:00PM&nbsp\;EDT</strong><br />\n<strong>Free</strong><b
 r />\n<a href=\"https://event.on24.com/eventRegistration/EventLobbyServlet
 ?target=reg30.jsp&amp\;referrer=&amp\;eventid=2495404&amp\;sessionid=1&amp
 \;key=274694542929576A6441FC76C5F20B11&amp\;regTag=&amp\;sourcepage=regist
 er\" rel=\"noopener\" target=\"_blank\"><u><strong>Register</strong></u></
 a></p></center>\n\n<p>Google Classroom. Youtube. iReady. Google Meet. Emai
 l. Parent Portal. These are just some of the platforms and programs that a
 re being used to support our students.</p>\n\n<p>As well-intentioned as we
  are\, the amount of information begin shared is overwhelming. Students an
 d parents are experiencing fatigue and frustration from distance learning.
  What can we do about it?</p>\n\n<p>This webinar will show educators an ef
 fective strategy for communicating that will allow students to be more suc
 cessful\, families to feel better informed\, and classes to run more smoot
 hly.</p>\n\n<center><p><a href=\"https://event.on24.com/eventRegistration/
 EventLobbyServlet?target=reg30.jsp&amp\;referrer=&amp\;eventid=2495404&amp
 \;sessionid=1&amp\;key=274694542929576A6441FC76C5F20B11&amp\;regTag=&amp\;
 sourcepage=register\" rel=\"noopener\" target=\"_blank\"><u><strong>REGIST
 ER HERE</strong></u></a></p></center>\n
DTSTAMP:20260420T103946Z
END:VEVENT
END:VCALENDAR