BEGIN:VCALENDAR
VERSION:2.0
PRODID:aftelearning.org
BEGIN:VEVENT
UID:69e600a43a567
DTSTART:20200820T200000Z
SEQUENCE:0
TRANSP:OPAQUE
DTEND:20200820T210000Z
SUMMARY:Ready to Grow: Sesame Street in Communities Resources for School Re
 adiness
CLASS:PUBLIC
DESCRIPTION:Join Antonio Freitas of Sesame Street in Communities [1] and
  Share My  \nLesson for a webinar on great resources for the new year.\n\n
 *Thursday\, August 20\, 2020\n4:00 - 5:00PM EDT\nFREE\nREGISTER [2]*\n\nOv
 er the course of an hour\, walk with Sesame through a variety of resources
   \nyou can use to prepare yourself\, families and children for a great st
 art to  \nthe school year! We’ll explore free videos\, printable resourc
 es\,  \ninteractive games\, workshops\, and digital storybooks to meet a w
 ide array of  \nneeds with education and entertainment!\n\n*REGISTER HERE*
  [3]\n\n\n[1] https://sharemylesson.com/partner/sesame-street-communities\
 n[2] https://event.on24.com/eventRegistration/EventLobbyServlet?target=reg
 30.jsp&amp\;referrer=&amp\;eventid=2495514&amp\;sessionid=1&amp\;key=D462F
 178E2AB768439EC3DD3C6F5BB18&amp\;regTag=&amp\;sourcepage=register\n[3] htt
 ps://event.on24.com/eventRegistration/EventLobbyServlet?target=reg30.jsp&a
 mp\;referrer=&amp\;eventid=2495514&amp\;sessionid=1&amp\;key=D462F178E2AB7
 68439EC3DD3C6F5BB18&amp\;regTag=&amp\;sourcepage=register\n
X-ALT-DESC;FMTTYPE=text/html:<p>Join&nbsp\;Antonio Freitas of&nbsp\;<u><a h
 ref=\"https://sharemylesson.com/partner/sesame-street-communities\" target
 =\"_blank\">Sesame Street in Communities</a></u>&nbsp\;and Share My Lesson
  for a webinar on great resources for the new year.</p>\n\n<center><p><str
 ong>Thursday\, August 20\, 2020<br />\n4:00 - 5:00PM EDT<br />\nFREE<br />
 \n<u><a href=\"https://event.on24.com/eventRegistration/EventLobbyServlet?
 target=reg30.jsp&amp\;referrer=&amp\;eventid=2495514&amp\;sessionid=1&amp\
 ;key=D462F178E2AB768439EC3DD3C6F5BB18&amp\;regTag=&amp\;sourcepage=registe
 r\" rel=\"noopener\" target=\"_blank\">REGISTER</a></u></strong></p></cent
 er>\n\n<p>Over the course of an hour\, walk with Sesame through a variety 
 of resources you can use to prepare yourself\, families and children for a
  great start to the school year! We’ll explore free videos\, printable r
 esources\, interactive games\, workshops\, and digital storybooks to meet 
 a wide array of needs with education and entertainment!</p>\n\n<center><p>
 <a href=\"https://event.on24.com/eventRegistration/EventLobbyServlet?targe
 t=reg30.jsp&amp\;referrer=&amp\;eventid=2495514&amp\;sessionid=1&amp\;key=
 D462F178E2AB768439EC3DD3C6F5BB18&amp\;regTag=&amp\;sourcepage=register\" r
 el=\"noopener\" target=\"_blank\"><strong><u>REGISTER HERE</u></strong></a
 ></p></center>\n
DTSTAMP:20260420T103204Z
END:VEVENT
END:VCALENDAR