BEGIN:VCALENDAR
VERSION:2.0
PRODID:aftelearning.org
BEGIN:VEVENT
UID:69e47fd96d4f3
DTSTART:20200930T210000Z
SEQUENCE:0
TRANSP:OPAQUE
DTEND:20200930T221500Z
SUMMARY:AFT Utah New Member Meet & Greet
CLASS:PUBLIC
DTSTAMP:20260419T071017Z
END:VEVENT
END:VCALENDAR