BEGIN:VCALENDAR
VERSION:2.0
PRODID:aftelearning.org
BEGIN:VEVENT
UID:69e47fdc7ef2c
DTSTART:20210120T130000Z
SEQUENCE:0
TRANSP:OPAQUE
DTEND:20210302T220000Z
SUMMARY:Winter Educator Academy 2021
CLASS:PUBLIC
DESCRIPTION:Learn more about Winter Educator Academy and how to sign up her
 e [1].\n\n\n[1] https://aftelearning.org/wea2021\n
X-ALT-DESC;FMTTYPE=text/html:<p>Learn more about Winter Educator Academy an
 d how to sign up <a href=\"https://aftelearning.org/wea2021\" target=\"_bl
 ank\">here</a>.</p>\n
DTSTAMP:20260419T071020Z
END:VEVENT
END:VCALENDAR