BEGIN:VCALENDAR
VERSION:2.0
PRODID:aftelearning.org
BEGIN:VEVENT
UID:69e45f5a9ac86
DTSTART:20210212T203000Z
SEQUENCE:0
TRANSP:OPAQUE
DTEND:20210212T223000Z
SUMMARY:Team Time with The Experts
CLASS:PUBLIC
DESCRIPTION:Join Zoom Meeting\n\nhttps://aft.zoom.us/j/98520013916?pwd=OEsx
 TFRXSVBpaGh1N1NScUt0enB3Zz09 [1]\n\n \n\nMeeting ID: 985 2001 3916\n\nPas
 scode: 193142\n\nOne tap mobile\n\n+13126266799\,\,98520013916#\,\,\,\,*19
 3142# US (Chicago)\n\n+19292056099\,\,98520013916#\,\,\,\,*193142# US (New
  York)\n\n \n\nDial by your location\n\n        +1 312 626 6799 US
  (Chicago)\n\n        +1 929 205 6099 US (New York)\n\n      
   +1 301 715 8592 US (Washington DC)\n\n        +1 346 248 7799 US
  (Houston)\n\n        +1 669 900 6833 US (San Jose)\n\n      
   +1 253 215 8782 US (Tacoma)\n\nMeeting ID: 985 2001 3916\n\nPasscode: 1
 93142\n\nFind your local number: https://aft.zoom.us/u/aeCIG25jtl [2]\n\n\
 n[1] https://aft.zoom.us/j/98520013916?pwd=OEsxTFRXSVBpaGh1N1NScUt0enB3Zz0
 9\n[2] https://aft.zoom.us/u/aeCIG25jtl\n
X-ALT-DESC;FMTTYPE=text/html:<p><span><span><span><span>Join Zoom Meeting</
 span></span></span></span></p>\n\n<p><span><span><span><span><span><a href
 =\"https://aft.zoom.us/j/98520013916?pwd=OEsxTFRXSVBpaGh1N1NScUt0enB3Zz09\
 "><span><span><span>https://aft.zoom.us/j/98520013916?pwd=OEsxTFRXSVBpaGh1
 N1NScUt0enB3Zz09</span></span></span></a></span></span></span></span></spa
 n></p>\n\n<p><span><span><span>&nbsp\;</span></span></span></p>\n\n<p><spa
 n><span><span><span>Meeting ID: 985 2001 3916</span></span></span></span><
 /p>\n\n<p><span><span><span><span>Passcode: 193142</span></span></span></s
 pan></p>\n\n<p><span><span><span><span>One tap mobile</span></span></span>
 </span></p>\n\n<p><span><span><span><span>+13126266799\,\,98520013916#\,\,
 \,\,*193142# US (Chicago)</span></span></span></span></p>\n\n<p><span><spa
 n><span><span>+19292056099\,\,98520013916#\,\,\,\,*193142# US (New York)</
 span></span></span></span></p>\n\n<p><span><span><span>&nbsp\;</span></spa
 n></span></p>\n\n<p><span><span><span><span>Dial by your location</span></
 span></span></span></p>\n\n<p><span><span><span><span>&nbsp\;&nbsp\;&nbsp\
 ;&nbsp\;&nbsp\;&nbsp\;&nbsp\; +1 312 626 6799 US (Chicago)</span></span></
 span></span></p>\n\n<p><span><span><span><span>&nbsp\;&nbsp\;&nbsp\;&nbsp\
 ;&nbsp\;&nbsp\;&nbsp\; +1 929 205 6099 US (New York)</span></span></span><
 /span></p>\n\n<p><span><span><span><span>&nbsp\;&nbsp\;&nbsp\;&nbsp\;&nbsp
 \;&nbsp\;&nbsp\; +1 301 715 8592 US (Washington DC)</span></span></span></
 span></p>\n\n<p><span><span><span><span>&nbsp\;&nbsp\;&nbsp\;&nbsp\;&nbsp\
 ;&nbsp\;&nbsp\; +1 346 248 7799 US (Houston)</span></span></span></span></
 p>\n\n<p><span><span><span><span>&nbsp\;&nbsp\;&nbsp\;&nbsp\;&nbsp\;&nbsp\
 ;&nbsp\; +1 669 900 6833 US (San Jose)</span></span></span></span></p>\n\n
 <p><span><span><span><span>&nbsp\;&nbsp\;&nbsp\;&nbsp\;&nbsp\;&nbsp\;&nbsp
 \; +1 253 215 8782 US (Tacoma)</span></span></span></span></p>\n\n<p><span
 ><span><span><span>Meeting ID: 985 2001 3916</span></span></span></span></
 p>\n\n<p><span><span><span><span>Passcode: 193142</span></span></span></sp
 an></p>\n\n<p><span><span><span><span>Find your local number: </span><span
 ><span><a href=\"https://aft.zoom.us/u/aeCIG25jtl\"><span><span><span>http
 s://aft.zoom.us/u/aeCIG25jtl</span></span></span></a></span></span></span>
 </span></span></p>\n
DTSTAMP:20260419T045138Z
END:VEVENT
END:VCALENDAR