BEGIN:VCALENDAR
VERSION:2.0
PRODID:aftelearning.org
BEGIN:VEVENT
UID:69e6000560474
DTSTART:20210216T210000Z
SEQUENCE:0
TRANSP:OPAQUE
DTEND:20210216T220000Z
SUMMARY:Celebrating Dr. Seuss' Birthday with Random House Children's Books
CLASS:PUBLIC
DESCRIPTION:Join the team from Random House Children's Books School & Libr
 ary  \n[1]\, Mallory Loehr\, Executive VP and Publisher\; Kristin Schulz
 \, Senior  \nManager of School Marketing\; Natalie Capogrossi\, Assistant
  Manager of  \nSchool Marketing\; Andrew Joyner\, Illustator and Author\;
  Eileen Hanning\,  \nConsultant of ReadLearnReach\, and Share My Lesson f
 or an exploration of  \neducator resources\, class activities\, and ways t
 o have fun with reading!\n\n*Tuesday\, February 16\, 2021\n4:00 PM EST\nFr
 ee\nRegister [2]*\n\nLearn more about how your virtual or in-person school
  group can celebrate the  \nbiggest reading event of the year on March 2\,
  Dr. Seuss’ birthday. Don’t  \nmiss your chance to win Dr. Seuss book
 s by entering the Hats Off to Reading  \nGiveaway [3]!\n\n*REGISTER [4]*\
 n\n*Available for one-hour of PD credit. A certificate of completion will 
 be  \navailable for download at the end of your session that you can submi
 t for  \nyour school's or district's approval.*\n\n*Share My Lesson is now
  an NYSED-approved provider for CTLE requirements.   \nPlease complete an
 d send your CTLE certificate [5] and PD certificate of  \ncompletion to af
 filiates@sharemylesson.com [6].*\n\n\n[1] https://sharemylesson.com/partne
 r/random-house-children%E2%80%99s-books-school-library\n[2] https://event.
 on24.com/eventRegistration/EventLobbyServlet?target=reg30.jsp&amp\;referre
 r=https%3A%2F%2Fwww.google.com%2F&amp\;eventid=2969702&amp\;sessionid=1&am
 p\;key=EB7E6CF4AB9223759D84674BBEAA0AD8&amp\;regTag=&amp\;V2=false&amp\;so
 urcepage=register\n[3] https://sweeps.penguinrandomhouse.com/enter/hats-of
 f-to-reading-2021-sweepstakes-1610318444\n[4] https://event.on24.com/event
 Registration/EventLobbyServlet?target=reg30.jsp&amp\;referrer=https%3A%2F%
 2Fwww.google.com%2F&amp\;eventid=2969702&amp\;sessionid=1&amp\;key=EB7E6CF
 4AB9223759D84674BBEAA0AD8&amp\;regTag=&amp\;V2=false&amp\;sourcepage=regis
 ter\n[5] https://sharemylesson.com/teaching-resource/ctle-pd-certificate-3
 28000\n[6] mailto:affiliates@sharemylesson.com\n
X-ALT-DESC;FMTTYPE=text/html:<p>Join the team from <a href=\"https://sharem
 ylesson.com/partner/random-house-children%E2%80%99s-books-school-library\"
  target=\"_blank\">Random House Children's Books School &amp\;&nbsp\;Libra
 ry</a>\,&nbsp\;Mallory Loehr\, Executive VP and Publisher\;&nbsp\;Kristin 
 Schulz\, Senior Manager of School Marketing\;&nbsp\;Natalie Capogrossi\, A
 ssistant&nbsp\;Manager of School Marketing\; Andrew Joyner\, Illustator an
 d Author\;&nbsp\;Eileen Hanning\, Consultant of ReadLearnReach\, and Share
  My Lesson for an exploration of educator resources\, class activities\, a
 nd ways to have fun with reading!</p>\n\n<p><strong>Tuesday\, February 16\
 , 2021<br />\n4:00 PM EST<br />\nFree<br />\n<u><a href=\"https://event.on
 24.com/eventRegistration/EventLobbyServlet?target=reg30.jsp&amp\;referrer=
 https%3A%2F%2Fwww.google.com%2F&amp\;eventid=2969702&amp\;sessionid=1&amp\
 ;key=EB7E6CF4AB9223759D84674BBEAA0AD8&amp\;regTag=&amp\;V2=false&amp\;sour
 cepage=register\" target=\"_blank\">Register</a></u></strong></p>\n\n<p>Le
 arn more about how your virtual or in-person school group can celebrate th
 e biggest reading event of the year on March 2\, Dr. Seuss’&nbsp\;birthd
 ay. Don’t miss your chance to win Dr. Seuss books by entering the&nbsp\;
 <a href=\"https://sweeps.penguinrandomhouse.com/enter/hats-off-to-reading-
 2021-sweepstakes-1610318444\" target=\"_blank\">Hats Off to Reading Giveaw
 ay</a>!</p>\n\n<p><u><strong><a href=\"https://event.on24.com/eventRegistr
 ation/EventLobbyServlet?target=reg30.jsp&amp\;referrer=https%3A%2F%2Fwww.g
 oogle.com%2F&amp\;eventid=2969702&amp\;sessionid=1&amp\;key=EB7E6CF4AB9223
 759D84674BBEAA0AD8&amp\;regTag=&amp\;V2=false&amp\;sourcepage=register\" t
 arget=\"_blank\">REGISTER</a></strong></u></p>\n\n<p><strong>Available for
  one-hour of PD credit. A certificate of completion will be available for 
 download at the end of your session that you can submit for your school's 
 or district's approval.</strong></p>\n\n<p><strong>Share My Lesson is now 
 an NYSED-approved provider for CTLE requirements.&nbsp\; Please complete a
 nd send your <u><a href=\"https://sharemylesson.com/teaching-resource/ctle
 -pd-certificate-328000\" target=\"_blank\">CTLE certificate</a></u> and PD
  certificate of completion to <u><a href=\"mailto:affiliates@sharemylesson
 .com\">affiliates@sharemylesson.com</a></u>.</strong></p>\n
DTSTAMP:20260420T102925Z
END:VEVENT
END:VCALENDAR