BEGIN:VCALENDAR
VERSION:2.0
PRODID:aftelearning.org
BEGIN:VEVENT
UID:69e47fefebb69
DTSTART:20210218T220000Z
SEQUENCE:0
TRANSP:OPAQUE
DTEND:20210218T230000Z
SUMMARY:Contributing Voices: Examining Essays from The 1619 Project with Ni
 kole Hannah-Jones
CLASS:PUBLIC
DESCRIPTION:Join Pulitzer Prize-winning journalist Nikole Hannah-Jones [1] 
 and members of  \nthe Pulitzer Center [2] education team as they explore a
  selection of essays  \nin The 1619 Project\, a groundbreaking edition of 
 The New York Times Magazine  \nthat reexamines the legacy of enslavement i
 n the United States and highlights  \nthe contributions of Black Americans
  to our democracy.\n\n*Thursday\, February 18\, 2021\n5:00PM EST\nFree\nRe
 gister [3]*\n\nNikole Hannah-Jones will be joined by journalists who contr
 ibuted to the  \nproject. AFT [4] President Randi Weingarten will open the
  webinar. To read  \nThe 1619 Project published by The New York Times Maga
 zine\, click here [5]. To  \nreview the Pulitzer Center’s 1619 Project c
 urriculum\, click here [6]. The  \nPulitzer Center is a journalism organiz
 ation that raises awareness of  \nunderreported global issues through dire
 ct support for quality journalism  \nacross all media platforms and a uniq
 ue program of education and public  \noutreach.\n\n*REGISTER [7]*\n\n*Avai
 lable for one-hour of PD credit. A certificate of completion will be  \nav
 ailable for download at the end of your session that you can submit for  \
 nyour school's or district's approval.*\n\n*Share My Lesson is now an NYSE
 D-approved provider for CTLE requirements.   \nPlease complete and send y
 our CTLE certificate [8] and PD certificate of  \ncompletion to affilia
 tes@sharemylesson.com [9].*\n\n\n[1] https://nikolehannahjones.com/\n[2] h
 ttps://pulitzercenter.org/\n[3] https://event.on24.com/eventRegistration/E
 ventLobbyServlet?target=reg30.jsp&amp\;referrer=&amp\;eventid=2993719&amp\
 ;sessionid=1&amp\;key=8652F9C6071E233FCD649DE247FD3349&amp\;regTag=&amp\;V
 2=false&amp\;sourcepage=register\n[4] https://sharemylesson.com/aft\n[5] h
 ttps://www.nytimes.com/interactive/2019/08/14/magazine/1619-america-slaver
 y.html\n[6] https://pulitzercenter.org/lesson-plan-grouping/1619-project-c
 urriculum\n[7] https://event.on24.com/eventRegistration/EventLobbyServlet?
 target=reg30.jsp&amp\;referrer=&amp\;eventid=2993719&amp\;sessionid=1&amp\
 ;key=8652F9C6071E233FCD649DE247FD3349&amp\;regTag=&amp\;V2=false&amp\;sour
 cepage=register\n[8] https://sharemylesson.com/teaching-resource/ctle-pd-c
 ertificate-328000\n[9] mailto:affiliates@sharemylesson.com\n
X-ALT-DESC;FMTTYPE=text/html:<p>Join Pulitzer Prize-winning journalist <u><
 a href=\"https://nikolehannahjones.com/\">Nikole Hannah-Jones</a></u> and 
 members of the <u><a href=\"https://pulitzercenter.org/\">Pulitzer Center<
 /a></u> education team as they explore a selection of essays in The 1619 P
 roject\, a groundbreaking edition of The New York Times Magazine that reex
 amines the legacy of enslavement in the United States and highlights the c
 ontributions of Black Americans to our democracy.</p>\n\n<p><strong>Thursd
 ay\, February 18\, 2021<br />\n5:00PM EST<br />\nFree<br />\n<u><a href=\"
 https://event.on24.com/eventRegistration/EventLobbyServlet?target=reg30.js
 p&amp\;referrer=&amp\;eventid=2993719&amp\;sessionid=1&amp\;key=8652F9C607
 1E233FCD649DE247FD3349&amp\;regTag=&amp\;V2=false&amp\;sourcepage=register
 \" target=\"_blank\">Register</a></u></strong></p>\n\n<p>Nikole Hannah-Jon
 es will be joined by journalists who contributed to the project. <u><a hre
 f=\"https://sharemylesson.com/aft\" target=\"_blank\">AFT</a></u> Presiden
 t Randi Weingarten will open the webinar. To read The 1619 Project publish
 ed by The New York Times Magazine\, click <u><a href=\"https://www.nytimes
 .com/interactive/2019/08/14/magazine/1619-america-slavery.html\">here</a><
 /u>. To review the Pulitzer Center’s 1619 Project curriculum\, click <u>
 <a href=\"https://pulitzercenter.org/lesson-plan-grouping/1619-project-cur
 riculum\">here</a></u>. The Pulitzer Center is a journalism organization t
 hat raises awareness of underreported global issues through direct support
  for quality journalism across all media platforms and a unique program of
  education and public outreach.</p>\n\n<p><strong><u><a href=\"https://eve
 nt.on24.com/eventRegistration/EventLobbyServlet?target=reg30.jsp&amp\;refe
 rrer=&amp\;eventid=2993719&amp\;sessionid=1&amp\;key=8652F9C6071E233FCD649
 DE247FD3349&amp\;regTag=&amp\;V2=false&amp\;sourcepage=register\" target=\
 "_blank\">REGISTER</a></u></strong></p>\n\n<p><strong>Available for one-ho
 ur of PD credit. A certificate of completion will be available for downloa
 d at the end of your session that you can submit for your school's or dist
 rict's approval.</strong></p>\n\n<p><strong>Share My Lesson is now an NYSE
 D-approved provider for CTLE requirements.&nbsp\; Please complete and send
  your&nbsp\;<u><a href=\"https://sharemylesson.com/teaching-resource/ctle-
 pd-certificate-328000\">CTLE certificate</a></u>&nbsp\;and PD certificate 
 of completion to&nbsp\;<u><a href=\"mailto:affiliates@sharemylesson.com\">
 affiliates@sharemylesson.com</a></u>.</strong></p>\n
DTSTAMP:20260419T071039Z
END:VEVENT
END:VCALENDAR