BEGIN:VCALENDAR
VERSION:2.0
PRODID:aftelearning.org
BEGIN:VEVENT
UID:69e62fed7e107
DTSTART:20210224T230000Z
SEQUENCE:0
TRANSP:OPAQUE
DTEND:20210225T000000Z
SUMMARY:Strengthening Mind and Body with Yoga
CLASS:PUBLIC
DESCRIPTION:Back by popular demand! Join Eleanor Harris\, a classroom teach
 er in the  \nAustin (Texas) Independent School District\, and a health and
  fitness  \nprofessional\, for a virtual yoga session.* *\n\n*Wednesday\, 
 February 24\, 2021\n6:00PM EST\nFree\nRegister [1]*\n\nThis session will 
 focus on the muscles\, bones and joints. Participants should  \nhave a spa
 ce where they can lie down on the floor\, or a space near a wall to  \nsit
 \, a blanket or towel\, and either a yoga strap or belt.\n\n \n\n*REGISTE
 R HERE [2]*\n\n*NOT available for credit.*\n\n*Part of the Wellness Series
 * [3]\n\n\n[1] https://event.on24.com/eventRegistration/EventLobbyServlet?
 target=reg30.jsp&amp\;referrer=https%3A%2F%2Fwww.google.com%2F&amp\;eventi
 d=3006717&amp\;sessionid=1&amp\;key=CDBBF67F45823B337F2C7B6785F83152&amp\;
 regTag=&amp\;V2=false&amp\;sourcepage=register\n[2] https://event.on24.com
 /eventRegistration/EventLobbyServlet?target=reg30.jsp&amp\;referrer=https%
 3A%2F%2Fwww.google.com%2F&amp\;eventid=3006717&amp\;sessionid=1&amp\;key=C
 DBBF67F45823B337F2C7B6785F83152&amp\;regTag=&amp\;V2=false&amp\;sourcepage
 =register\n[3] https://sharemylesson.com/wellness\n
X-ALT-DESC;FMTTYPE=text/html:<p>Back by popular demand! Join Eleanor Harris
 \, a classroom teacher in the Austin (Texas) Independent School District\,
  and a health and fitness professional\, for a virtual yoga session.<stron
 g> </strong></p>\n\n<p><strong>Wednesday\, February&nbsp\;24\, 2021<br />\
 n6:00PM EST<br />\nFree<br />\n<u><a href=\"https://event.on24.com/eventRe
 gistration/EventLobbyServlet?target=reg30.jsp&amp\;referrer=https%3A%2F%2F
 www.google.com%2F&amp\;eventid=3006717&amp\;sessionid=1&amp\;key=CDBBF67F4
 5823B337F2C7B6785F83152&amp\;regTag=&amp\;V2=false&amp\;sourcepage=registe
 r\" target=\"_blank\">Register</a></u></strong></p>\n\n<p>This session wil
 l focus on the muscles\, bones and joints. Participants should have a spac
 e where they can lie down on the floor\, or a space near a wall to sit\, a
  blanket or towel\, and either a yoga strap or belt.</p>\n\n<p>&nbsp\;</p>
 \n\n<p><u><strong><a href=\"https://event.on24.com/eventRegistration/Event
 LobbyServlet?target=reg30.jsp&amp\;referrer=https%3A%2F%2Fwww.google.com%2
 F&amp\;eventid=3006717&amp\;sessionid=1&amp\;key=CDBBF67F45823B337F2C7B678
 5F83152&amp\;regTag=&amp\;V2=false&amp\;sourcepage=register\" target=\"_bl
 ank\">REGISTER HERE</a></strong></u></p>\n\n<p><strong>NOT available for c
 redit.</strong></p>\n\n<p><u><a href=\"https://sharemylesson.com/wellness\
 " target=\"_blank\"><strong>Part of the Wellness Series</strong></a></u></
 p>\n
DTSTAMP:20260420T135349Z
END:VEVENT
END:VCALENDAR