BEGIN:VCALENDAR
VERSION:2.0
PRODID:aftelearning.org
BEGIN:VEVENT
UID:69e5fb53dc620
DTSTART:20210323T170000Z
SEQUENCE:0
TRANSP:OPAQUE
DTEND:20210326T020000Z
SUMMARY:Share My Lesson Virtual Conference 2021
CLASS:PUBLIC
DESCRIPTION:Learn more about Share My Lesson's 2021 Virtual Conference and 
 how you can  \nregister for all sessions here [1].\n\n\n[1] https://sharem
 ylesson.com/vc2021\n
X-ALT-DESC;FMTTYPE=text/html:<p>Learn more about Share My Lesson's 2021 Vir
 tual Conference and how you can <a href=\"https://sharemylesson.com/vc2021
 \" target=\"_blank\">register for all sessions here</a>.</p>\n
DTSTAMP:20260420T100923Z
END:VEVENT
END:VCALENDAR