BEGIN:VCALENDAR
VERSION:2.0
PRODID:aftelearning.org
BEGIN:VEVENT
UID:69e47ff708974
DTSTART:20210719T170000Z
SEQUENCE:0
TRANSP:OPAQUE
DTEND:20210722T170000Z
SUMMARY:Teacher Leaders Program 2021 Orientation
CLASS:PUBLIC
DESCRIPTION:Teacher Leaders Program 2021-22 Orientation\n\n
X-ALT-DESC;FMTTYPE=text/html:<p>Teacher Leaders Program 2021-22 Orientation
 </p>\n
DTSTAMP:20260419T071047Z
END:VEVENT
END:VCALENDAR